Workbook

Sheet objektid
A1: NB! Selgitused antud tabeli ja selle täitmise kohta on toodud töölehel nimega "Abiinfo"
A2: #Vanem | B2: Objekti kood | C2: Nimetus | D2: Eesmärk/Mõõdik | E2: Vastutaja | F2: Kaasvastutaja(d) | G2: Märkused | H2: Mõõdiku formaat | I2: Mõõdiku suund | J2: Allika kirjeldus | K2: Muudatus | L2: PL tasand | M2: PL tasand | N2: kas vanem on? | O2: On_moodik | P2: SortKey
B3: EK | C3: Eesti keel | D3: Tagada eesti keele elujõud ja toimimine Eesti Vabariigis esmase keelena igas eluvaldkonnas, tagada igaühele õigus ja võimalus kasutada Eestis eesti keelt, säilitada ja tugevdada eesti keele staatust, mainet ja eestikeelset kultuuri- ja inforuumi ning väärtustada teiste keelte valdamist | E3: G | L3: =LEN(B3) -> 2 | M3: =IF(ISNUMBER(SEARCH("-??",B3)), "MÕÕDIK", VLOOKUP(L3,Abiinfo!C:D,2,0)) -> Tulemusvaldkond | N3: =IF(A3="","",IF(COUNTIF($B:$B,TRIM(A3))=0,"#VANEM puudub","")) | O3: =IF(ISNUMBER(SEARCH("-",B3)),1,0) -> 0 | P3: =IF(A3="", B3, INDEX($P:$P,MATCH(A3,$B:$B,0))& "." & IF(O3=1,"0","1")& "." & B3) -> EK
A4: EK | B4: EK-05 | D4: 16–65-aastaste Eesti elanike funktsionaalne lugemisoskus eesti keeles | E4: G | G4: Muudetud protsendist arvuks, mõõdetakse keskmist tulemust | H4: Arv | I4: Suurem parem | J4: PIAAC uuring | L4: =LEN(B4) -> 5 | M4: =IF(ISNUMBER(SEARCH("-??",B4)), "MÕÕDIK", VLOOKUP(L4,Abiinfo!C:D,2,0)) -> MÕÕDIK | N4: =IF(A4="","",IF(COUNTIF($B:$B,TRIM(A4))=0,"#VANEM puudub","")) | O4: =IF(ISNUMBER(SEARCH("-",B4)),1,0) -> 1 | P4: =IF(A4="", B4, INDEX($P:$P,MATCH(A4,$B:$B,0))& "." & IF(O4=1,"0","1")& "." & B4) -> EK.0.EK-05
A5: EK | B5: EK-06 | D5: Eesti keelt kasutavate inimeste osakaal rahvastikust, % | E5: G | H5: Protsent | I5: Suurem parem | J5: Statistikaamet | L5: =LEN(B5) -> 5 | M5: =IF(ISNUMBER(SEARCH("-??",B5)), "MÕÕDIK", VLOOKUP(L5,Abiinfo!C:D,2,0)) -> MÕÕDIK | N5: =IF(A5="","",IF(COUNTIF($B:$B,TRIM(A5))=0,"#VANEM puudub","")) | O5: =IF(ISNUMBER(SEARCH("-",B5)),1,0) -> 1 | P5: =IF(A5="", B5, INDEX($P:$P,MATCH(A5,$B:$B,0))& "." & IF(O5=1,"0","1")& "." & B5) -> EK.0.EK-06
A6: EK | B6: EK01 | C6: Keeleprogramm | D6: Eesti keel on arenenud kultuur- ja suhtluskeel ning Eestis väärtustatakse mitmekeelsust | E6: G | L6: =LEN(B6) -> 4 | M6: =IF(ISNUMBER(SEARCH("-??",B6)), "MÕÕDIK", VLOOKUP(L6,Abiinfo!C:D,2,0)) -> programm | N6: =IF(A6="","",IF(COUNTIF($B:$B,TRIM(A6))=0,"#VANEM puudub","")) | O6: =IF(ISNUMBER(SEARCH("-",B6)),1,0) -> 0 | P6: =IF(A6="", B6, INDEX($P:$P,MATCH(A6,$B:$B,0))& "." & IF(O6=1,"0","1")& "." & B6) -> EK.1.EK01
A7: EK01 | B7: EK01-04 | D7: 16–65-aastaste Eesti elanike funktsionaalne lugemisoskus eesti keeles | E7: G | H7: Arv | I7: Suurem parem | J7: PIAAC uuring | L7: =LEN(B7) -> 7 | M7: =IF(ISNUMBER(SEARCH("-??",B7)), "MÕÕDIK", VLOOKUP(L7,Abiinfo!C:D,2,0)) -> MÕÕDIK | N7: =IF(A7="","",IF(COUNTIF($B:$B,TRIM(A7))=0,"#VANEM puudub","")) | O7: =IF(ISNUMBER(SEARCH("-",B7)),1,0) -> 1 | P7: =IF(A7="", B7, INDEX($P:$P,MATCH(A7,$B:$B,0))& "." & IF(O7=1,"0","1")& "." & B7) -> EK.1.EK01.0.EK01-04
A8: EK01 | B8: EK01-05 | D8: Eesti keelt kasutavate inimeste osakaal rahvastikust, % | E8: G | H8: Protsent | I8: Suurem parem | J8: Statistikaamet | L8: =LEN(B8) -> 7 | M8: =IF(ISNUMBER(SEARCH("-??",B8)), "MÕÕDIK", VLOOKUP(L8,Abiinfo!C:D,2,0)) -> MÕÕDIK | N8: =IF(A8="","",IF(COUNTIF($B:$B,TRIM(A8))=0,"#VANEM puudub","")) | O8: =IF(ISNUMBER(SEARCH("-",B8)),1,0) -> 1 | P8: =IF(A8="", B8, INDEX($P:$P,MATCH(A8,$B:$B,0))& "." & IF(O8=1,"0","1")& "." & B8) -> EK.1.EK01.0.EK01-05
A9: EK01 | B9: EK0101 | C9: Keelevaldkonna arendamine | D9: Eesti keel on arenenud kultuur- ja suhtluskeel ning Eestis väärtustatakse mitmekeelsust | E9: G | L9: =LEN(B9) -> 6 | M9: =IF(ISNUMBER(SEARCH("-??",B9)), "MÕÕDIK", VLOOKUP(L9,Abiinfo!C:D,2,0)) -> meede | N9: =IF(A9="","",IF(COUNTIF($B:$B,TRIM(A9))=0,"#VANEM puudub","")) | O9: =IF(ISNUMBER(SEARCH("-",B9)),1,0) -> 0 | P9: =IF(A9="", B9, INDEX($P:$P,MATCH(A9,$B:$B,0))& "." & IF(O9=1,"0","1")& "." & B9) -> EK.1.EK01.1.EK0101
A10: EK0101 | B10: EK010101 | C10: Eesti keele maine | D10: Eesti keele staatus on kindel ja maine on hea | E10: G | L10: =LEN(B10) -> 8 | M10: =IF(ISNUMBER(SEARCH("-??",B10)), "MÕÕDIK", VLOOKUP(L10,Abiinfo!C:D,2,0)) -> programmi tegevus | N10: =IF(A10="","",IF(COUNTIF($B:$B,TRIM(A10))=0,"#VANEM puudub","")) | O10: =IF(ISNUMBER(SEARCH("-",B10)),1,0) -> 0 | P10: =IF(A10="", B10, INDEX($P:$P,MATCH(A10,$B:$B,0))& "." & IF(O10=1,"0","1")& "." & B10) -> EK.1.EK01.1.EK0101.1.EK010101
A11: EK010101 | B11: EK010101-02 | D11: Eesti keele maine ühiskonnas: eesti emakeelega inimeste hulgas | E11: G | H11: Arv | I11: Suurem parem | J11: Eesti keele maine uuring | L11: =LEN(B11) -> 11 | M11: =IF(ISNUMBER(SEARCH("-??",B11)), "MÕÕDIK", VLOOKUP(L11,Abiinfo!C:D,2,0)) -> MÕÕDIK | N11: =IF(A11="","",IF(COUNTIF($B:$B,TRIM(A11))=0,"#VANEM puudub","")) | O11: =IF(ISNUMBER(SEARCH("-",B11)),1,0) -> 1 | P11: =IF(A11="", B11, INDEX($P:$P,MATCH(A11,$B:$B,0))& "." & IF(O11=1,"0","1")& "." & B11) -> EK.1.EK01.1.EK0101.1.EK010101.0.EK010101-02
A12: EK010101 | B12: EK010101-03 | D12: Eesti keele maine ühiskonnas: eesti keelest erineva emakeelega inimeste hulgas | E12: G | H12: Arv | I12: Suurem parem | J12: Eesti keele maine uuring | L12: =LEN(B12) -> 11 | M12: =IF(ISNUMBER(SEARCH("-??",B12)), "MÕÕDIK", VLOOKUP(L12,Abiinfo!C:D,2,0)) -> MÕÕDIK | N12: =IF(A12="","",IF(COUNTIF($B:$B,TRIM(A12))=0,"#VANEM puudub","")) | O12: =IF(ISNUMBER(SEARCH("-",B12)),1,0) -> 1 | P12: =IF(A12="", B12, INDEX($P:$P,MATCH(A12,$B:$B,0))& "." & IF(O12=1,"0","1")& "." & B12) -> EK.1.EK01.1.EK0101.1.EK010101.0.EK010101-03
A13: EK010101 | B13: EK01010101 | C13: Eesti keele mainet ja staatust tugevdavate tegevuste korraldamine | E13: G10 | L13: =LEN(B13) -> 10 | M13: =IF(ISNUMBER(SEARCH("-??",B13)), "MÕÕDIK", VLOOKUP(L13,Abiinfo!C:D,2,0)) -> teenus | N13: =IF(A13="","",IF(COUNTIF($B:$B,TRIM(A13))=0,"#VANEM puudub","")) | O13: =IF(ISNUMBER(SEARCH("-",B13)),1,0) -> 0 | P13: =IF(A13="", B13, INDEX($P:$P,MATCH(A13,$B:$B,0))& "." & IF(O13=1,"0","1")& "." & B13) -> EK.1.EK01.1.EK0101.1.EK010101.1.EK01010101
A14: EK010101 | B14: EK01010161 | C14: Mainekujundus | D14: . | E14: G60 | L14: =LEN(B14) -> 10 | M14: =IF(ISNUMBER(SEARCH("-??",B14)), "MÕÕDIK", VLOOKUP(L14,Abiinfo!C:D,2,0)) -> teenus | N14: =IF(A14="","",IF(COUNTIF($B:$B,TRIM(A14))=0,"#VANEM puudub","")) | O14: =IF(ISNUMBER(SEARCH("-",B14)),1,0) -> 0 | P14: =IF(A14="", B14, INDEX($P:$P,MATCH(A14,$B:$B,0))& "." & IF(O14=1,"0","1")& "." & B14) -> EK.1.EK01.1.EK0101.1.EK010101.1.EK01010161
A15: EK010101 | B15: EK01010171 | C15: Euroopa keeleõppe tunnuskiri | D15: . | E15: G70 | L15: =LEN(B15) -> 10 | M15: =IF(ISNUMBER(SEARCH("-??",B15)), "MÕÕDIK", VLOOKUP(L15,Abiinfo!C:D,2,0)) -> teenus | N15: =IF(A15="","",IF(COUNTIF($B:$B,TRIM(A15))=0,"#VANEM puudub","")) | O15: =IF(ISNUMBER(SEARCH("-",B15)),1,0) -> 0 | P15: =IF(A15="", B15, INDEX($P:$P,MATCH(A15,$B:$B,0))& "." & IF(O15=1,"0","1")& "." & B15) -> EK.1.EK01.1.EK0101.1.EK010101.1.EK01010171
A16: EK010101 | B16: EK01010188 | C16: Eesti keele mainetegevused | D16: . | E16: G52 | L16: =LEN(B16) -> 10 | M16: =IF(ISNUMBER(SEARCH("-??",B16)), "MÕÕDIK", VLOOKUP(L16,Abiinfo!C:D,2,0)) -> teenus | N16: =IF(A16="","",IF(COUNTIF($B:$B,TRIM(A16))=0,"#VANEM puudub","")) | O16: =IF(ISNUMBER(SEARCH("-",B16)),1,0) -> 0 | P16: =IF(A16="", B16, INDEX($P:$P,MATCH(A16,$B:$B,0))& "." & IF(O16=1,"0","1")& "." & B16) -> EK.1.EK01.1.EK0101.1.EK010101.1.EK01010188
A17: EK0101 | B17: EK010102 | C17: Keeletaristu ja keeletehnoloogia | D17: Eesti keele uurimine on rahvusvaheliselt kõrgel tasemel ning keeletaristu on innovaatiline, avatud ja mitmekesine, eestikeelset oskussõnavara arendatakse koordineeritult | E17: G | L17: =LEN(B17) -> 8 | M17: =IF(ISNUMBER(SEARCH("-??",B17)), "MÕÕDIK", VLOOKUP(L17,Abiinfo!C:D,2,0)) -> programmi tegevus | N17: =IF(A17="","",IF(COUNTIF($B:$B,TRIM(A17))=0,"#VANEM puudub","")) | O17: =IF(ISNUMBER(SEARCH("-",B17)),1,0) -> 0 | P17: =IF(A17="", B17, INDEX($P:$P,MATCH(A17,$B:$B,0))& "." & IF(O17=1,"0","1")& "." & B17) -> EK.1.EK01.1.EK0101.1.EK010102
A18: EK010102 | B18: EK010102-05 | D18: Rahvusvahelise levikuga Eesti keeleteaduse publikatsioonide hulk ja viidatavus | E18: G | H18: Täisarv | I18: Suurem parem | J18: ETIS | L18: =LEN(B18) -> 11 | M18: =IF(ISNUMBER(SEARCH("-??",B18)), "MÕÕDIK", VLOOKUP(L18,Abiinfo!C:D,2,0)) -> MÕÕDIK | N18: =IF(A18="","",IF(COUNTIF($B:$B,TRIM(A18))=0,"#VANEM puudub","")) | O18: =IF(ISNUMBER(SEARCH("-",B18)),1,0) -> 1 | P18: =IF(A18="", B18, INDEX($P:$P,MATCH(A18,$B:$B,0))& "." & IF(O18=1,"0","1")& "." & B18) -> EK.1.EK01.1.EK0101.1.EK010102.0.EK010102-05
A19: EK010102 | B19: EK010102-06 | D19: Mitmekeelsete terminibaaside hulk | E19: G | H19: Täisarv | I19: Suurem parem | J19: Eesti Keele Instituut | L19: =LEN(B19) -> 11 | M19: =IF(ISNUMBER(SEARCH("-??",B19)), "MÕÕDIK", VLOOKUP(L19,Abiinfo!C:D,2,0)) -> MÕÕDIK | N19: =IF(A19="","",IF(COUNTIF($B:$B,TRIM(A19))=0,"#VANEM puudub","")) | O19: =IF(ISNUMBER(SEARCH("-",B19)),1,0) -> 1 | P19: =IF(A19="", B19, INDEX($P:$P,MATCH(A19,$B:$B,0))& "." & IF(O19=1,"0","1")& "." & B19) -> EK.1.EK01.1.EK0101.1.EK010102.0.EK010102-06
A20: EK010102 | B20: EK010102-07 | D20: Eesti keele keeletehnoloogiline tugi | E20: G | H20: Tekst | I20: Suurem parem | J20: Eesti Keele Instituut | L20: =LEN(B20) -> 11 | M20: =IF(ISNUMBER(SEARCH("-??",B20)), "MÕÕDIK", VLOOKUP(L20,Abiinfo!C:D,2,0)) -> MÕÕDIK | N20: =IF(A20="","",IF(COUNTIF($B:$B,TRIM(A20))=0,"#VANEM puudub","")) | O20: =IF(ISNUMBER(SEARCH("-",B20)),1,0) -> 1 | P20: =IF(A20="", B20, INDEX($P:$P,MATCH(A20,$B:$B,0))& "." & IF(O20=1,"0","1")& "." & B20) -> EK.1.EK01.1.EK0101.1.EK010102.0.EK010102-07
A21: EK010102 | B21: EK01010201 | C21: Keeletaristu arendamise toetamine | D21: . | E21: G10 | L21: =LEN(B21) -> 10 | M21: =IF(ISNUMBER(SEARCH("-??",B21)), "MÕÕDIK", VLOOKUP(L21,Abiinfo!C:D,2,0)) -> teenus | N21: =IF(A21="","",IF(COUNTIF($B:$B,TRIM(A21))=0,"#VANEM puudub","")) | O21: =IF(ISNUMBER(SEARCH("-",B21)),1,0) -> 0 | P21: =IF(A21="", B21, INDEX($P:$P,MATCH(A21,$B:$B,0))& "." & IF(O21=1,"0","1")& "." & B21) -> EK.1.EK01.1.EK0101.1.EK010102.1.EK01010201
A22: EK010102 | B22: EK01010251 | C22: Keeletehnoloogia | D22: . | E22: G53 | L22: =LEN(B22) -> 10 | M22: =IF(ISNUMBER(SEARCH("-??",B22)), "MÕÕDIK", VLOOKUP(L22,Abiinfo!C:D,2,0)) -> teenus | N22: =IF(A22="","",IF(COUNTIF($B:$B,TRIM(A22))=0,"#VANEM puudub","")) | O22: =IF(ISNUMBER(SEARCH("-",B22)),1,0) -> 0 | P22: =IF(A22="", B22, INDEX($P:$P,MATCH(A22,$B:$B,0))& "." & IF(O22=1,"0","1")& "." & B22) -> EK.1.EK01.1.EK0101.1.EK010102.1.EK01010251
A23: EK010102 | B23: EK01010271 | C23: EIS teenuse toetamine | D23: . | E23: G70 | G23: ei ole uus teenus. 2025 ja 2026 on olemas kuid siit tabelist oli väljas. Tuleb lisada | L23: =LEN(B23) -> 10 | M23: =IF(ISNUMBER(SEARCH("-??",B23)), "MÕÕDIK", VLOOKUP(L23,Abiinfo!C:D,2,0)) -> teenus | N23: =IF(A23="","",IF(COUNTIF($B:$B,TRIM(A23))=0,"#VANEM puudub","")) | O23: =IF(ISNUMBER(SEARCH("-",B23)),1,0) -> 0 | P23: =IF(A23="", B23, INDEX($P:$P,MATCH(A23,$B:$B,0))& "." & IF(O23=1,"0","1")& "." & B23) -> EK.1.EK01.1.EK0101.1.EK010102.1.EK01010271
A24: EK010102 | B24: EK01010282 | C24: Keeletaristu | D24: . | E24: G52 | L24: =LEN(B24) -> 10 | M24: =IF(ISNUMBER(SEARCH("-??",B24)), "MÕÕDIK", VLOOKUP(L24,Abiinfo!C:D,2,0)) -> teenus | N24: =IF(A24="","",IF(COUNTIF($B:$B,TRIM(A24))=0,"#VANEM puudub","")) | O24: =IF(ISNUMBER(SEARCH("-",B24)),1,0) -> 0 | P24: =IF(A24="", B24, INDEX($P:$P,MATCH(A24,$B:$B,0))& "." & IF(O24=1,"0","1")& "." & B24) -> EK.1.EK01.1.EK0101.1.EK010102.1.EK01010282
A25: EK010102 | B25: EK01010286 | C25: Keeletehnoloogia | D25: . | E25: G52 | L25: =LEN(B25) -> 10 | M25: =IF(ISNUMBER(SEARCH("-??",B25)), "MÕÕDIK", VLOOKUP(L25,Abiinfo!C:D,2,0)) -> teenus | N25: =IF(A25="","",IF(COUNTIF($B:$B,TRIM(A25))=0,"#VANEM puudub","")) | O25: =IF(ISNUMBER(SEARCH("-",B25)),1,0) -> 0 | P25: =IF(A25="", B25, INDEX($P:$P,MATCH(A25,$B:$B,0))& "." & IF(O25=1,"0","1")& "." & B25) -> EK.1.EK01.1.EK0101.1.EK010102.1.EK01010286
A26: EK010102 | B26: EK01010288 | C26: Keele staatus ja maine | D26: . | E26: G52 | L26: =LEN(B26) -> 10 | M26: =IF(ISNUMBER(SEARCH("-??",B26)), "MÕÕDIK", VLOOKUP(L26,Abiinfo!C:D,2,0)) -> teenus | N26: =IF(A26="","",IF(COUNTIF($B:$B,TRIM(A26))=0,"#VANEM puudub","")) | O26: =IF(ISNUMBER(SEARCH("-",B26)),1,0) -> 0 | P26: =IF(A26="", B26, INDEX($P:$P,MATCH(A26,$B:$B,0))& "." & IF(O26=1,"0","1")& "." & B26) -> EK.1.EK01.1.EK0101.1.EK010102.1.EK01010288
A27: EK01010288 | B27: EK01010288-01 | D27: Mõõdik on väljatöötamisel | E27: G52 | H27: Tekst | I27: NONE | L27: =LEN(B27) -> 13 | M27: =IF(ISNUMBER(SEARCH("-??",B27)), "MÕÕDIK", VLOOKUP(L27,Abiinfo!C:D,2,0)) -> MÕÕDIK | N27: =IF(A27="","",IF(COUNTIF($B:$B,TRIM(A27))=0,"#VANEM puudub","")) | O27: =IF(ISNUMBER(SEARCH("-",B27)),1,0) -> 1 | P27: =IF(A27="", B27, INDEX($P:$P,MATCH(A27,$B:$B,0))& "." & IF(O27=1,"0","1")& "." & B27) -> EK.1.EK01.1.EK0101.1.EK010102.1.EK01010288.0.EK01010288-01
A28: EK0101 | B28: EK010103 | C28: Keeleõpe ja keeleoskuse hindamine | D28: Kõik Eesti elanikud valdavad eesti keelt ja väärtustavad teiste keelte oskust | E28: G | L28: =LEN(B28) -> 8 | M28: =IF(ISNUMBER(SEARCH("-??",B28)), "MÕÕDIK", VLOOKUP(L28,Abiinfo!C:D,2,0)) -> programmi tegevus | N28: =IF(A28="","",IF(COUNTIF($B:$B,TRIM(A28))=0,"#VANEM puudub","")) | O28: =IF(ISNUMBER(SEARCH("-",B28)),1,0) -> 0 | P28: =IF(A28="", B28, INDEX($P:$P,MATCH(A28,$B:$B,0))& "." & IF(O28=1,"0","1")& "." & B28) -> EK.1.EK01.1.EK0101.1.EK010103
A29: EK010103 | B29: EK010103-02 | D29: Eesti keele tasemeeksami sooritanute osakaal eksamil käinutest (%) | E29: G | H29: Protsent | I29: Suurem parem | J29: Harno | L29: =LEN(B29) -> 11 | M29: =IF(ISNUMBER(SEARCH("-??",B29)), "MÕÕDIK", VLOOKUP(L29,Abiinfo!C:D,2,0)) -> MÕÕDIK | N29: =IF(A29="","",IF(COUNTIF($B:$B,TRIM(A29))=0,"#VANEM puudub","")) | O29: =IF(ISNUMBER(SEARCH("-",B29)),1,0) -> 1 | P29: =IF(A29="", B29, INDEX($P:$P,MATCH(A29,$B:$B,0))& "." & IF(O29=1,"0","1")& "." & B29) -> EK.1.EK01.1.EK0101.1.EK010103.0.EK010103-02
A30: EK010103 | B30: EK010103-03 | D30: Väliseestlaste osalus eesti keele õppes (inimeste arv aastas) | E30: G | H30: Täisarv | I30: Suurem parem | J30: Eesti Keele Instituut | L30: =LEN(B30) -> 11 | M30: =IF(ISNUMBER(SEARCH("-??",B30)), "MÕÕDIK", VLOOKUP(L30,Abiinfo!C:D,2,0)) -> MÕÕDIK | N30: =IF(A30="","",IF(COUNTIF($B:$B,TRIM(A30))=0,"#VANEM puudub","")) | O30: =IF(ISNUMBER(SEARCH("-",B30)),1,0) -> 1 | P30: =IF(A30="", B30, INDEX($P:$P,MATCH(A30,$B:$B,0))& "." & IF(O30=1,"0","1")& "." & B30) -> EK.1.EK01.1.EK0101.1.EK010103.0.EK010103-03
A31: EK010103 | B31: EK010103-05 | D31: Eesti keele kui teise keele õppekorralduse keskkond täiskasvanud õppijale | E31: G | H31: Tekst | I31: Suurem parem | J31: HTM | L31: =LEN(B31) -> 11 | M31: =IF(ISNUMBER(SEARCH("-??",B31)), "MÕÕDIK", VLOOKUP(L31,Abiinfo!C:D,2,0)) -> MÕÕDIK | N31: =IF(A31="","",IF(COUNTIF($B:$B,TRIM(A31))=0,"#VANEM puudub","")) | O31: =IF(ISNUMBER(SEARCH("-",B31)),1,0) -> 1 | P31: =IF(A31="", B31, INDEX($P:$P,MATCH(A31,$B:$B,0))& "." & IF(O31=1,"0","1")& "." & B31) -> EK.1.EK01.1.EK0101.1.EK010103.0.EK010103-05
A32: EK010103 | B32: EK010103-06 | D32: Eesti elanike enesehinnanguline võõrkeeleoskus | E32: G | H32: Tekst | I32: Suurem parem | J32: Eesti tööjõu-uuring | L32: =LEN(B32) -> 11 | M32: =IF(ISNUMBER(SEARCH("-??",B32)), "MÕÕDIK", VLOOKUP(L32,Abiinfo!C:D,2,0)) -> MÕÕDIK | N32: =IF(A32="","",IF(COUNTIF($B:$B,TRIM(A32))=0,"#VANEM puudub","")) | O32: =IF(ISNUMBER(SEARCH("-",B32)),1,0) -> 1 | P32: =IF(A32="", B32, INDEX($P:$P,MATCH(A32,$B:$B,0))& "." & IF(O32=1,"0","1")& "." & B32) -> EK.1.EK01.1.EK0101.1.EK010103.0.EK010103-06
A33: EK010103 | B33: EK01010301 | C33: Eesti keele õppimise ja õpetamise toetamine, eesti keele oskuse hindamine, mitmekeelsuse ja võõrkeelte oskuse toetamine | E33: G10 | L33: =LEN(B33) -> 10 | M33: =IF(ISNUMBER(SEARCH("-??",B33)), "MÕÕDIK", VLOOKUP(L33,Abiinfo!C:D,2,0)) -> teenus | N33: =IF(A33="","",IF(COUNTIF($B:$B,TRIM(A33))=0,"#VANEM puudub","")) | O33: =IF(ISNUMBER(SEARCH("-",B33)),1,0) -> 0 | P33: =IF(A33="", B33, INDEX($P:$P,MATCH(A33,$B:$B,0))& "." & IF(O33=1,"0","1")& "." & B33) -> EK.1.EK01.1.EK0101.1.EK010103.1.EK01010301
A34: EK010103 | B34: EK01010351 | C34: Väliseesti arhiiviprojektid | D34: . | E34: G53 | L34: =LEN(B34) -> 10 | M34: =IF(ISNUMBER(SEARCH("-??",B34)), "MÕÕDIK", VLOOKUP(L34,Abiinfo!C:D,2,0)) -> teenus | N34: =IF(A34="","",IF(COUNTIF($B:$B,TRIM(A34))=0,"#VANEM puudub","")) | O34: =IF(ISNUMBER(SEARCH("-",B34)),1,0) -> 0 | P34: =IF(A34="", B34, INDEX($P:$P,MATCH(A34,$B:$B,0))& "." & IF(O34=1,"0","1")& "." & B34) -> EK.1.EK01.1.EK0101.1.EK010103.1.EK01010351
A35: EK010103 | B35: EK01010361 | C35: Keeleõppe toetamine | D35: . | E35: G60 | L35: =LEN(B35) -> 10 | M35: =IF(ISNUMBER(SEARCH("-??",B35)), "MÕÕDIK", VLOOKUP(L35,Abiinfo!C:D,2,0)) -> teenus | N35: =IF(A35="","",IF(COUNTIF($B:$B,TRIM(A35))=0,"#VANEM puudub","")) | O35: =IF(ISNUMBER(SEARCH("-",B35)),1,0) -> 0 | P35: =IF(A35="", B35, INDEX($P:$P,MATCH(A35,$B:$B,0))& "." & IF(O35=1,"0","1")& "." & B35) -> EK.1.EK01.1.EK0101.1.EK010103.1.EK01010361
A36: EK010103 | B36: EK01010371 | C36: Eesti keele tasemeeksamid ja keeleõppekulude hüvitamine | D36: . | E36: G70 | L36: =LEN(B36) -> 10 | M36: =IF(ISNUMBER(SEARCH("-??",B36)), "MÕÕDIK", VLOOKUP(L36,Abiinfo!C:D,2,0)) -> teenus | N36: =IF(A36="","",IF(COUNTIF($B:$B,TRIM(A36))=0,"#VANEM puudub","")) | O36: =IF(ISNUMBER(SEARCH("-",B36)),1,0) -> 0 | P36: =IF(A36="", B36, INDEX($P:$P,MATCH(A36,$B:$B,0))& "." & IF(O36=1,"0","1")& "." & B36) -> EK.1.EK01.1.EK0101.1.EK010103.1.EK01010371
A37: EK010103 | B37: EK01010372 | C37: Eesti keele õppe arendamine välismaal ja välisõpe | D37: . | E37: G70 | L37: =LEN(B37) -> 10 | M37: =IF(ISNUMBER(SEARCH("-??",B37)), "MÕÕDIK", VLOOKUP(L37,Abiinfo!C:D,2,0)) -> teenus | N37: =IF(A37="","",IF(COUNTIF($B:$B,TRIM(A37))=0,"#VANEM puudub","")) | O37: =IF(ISNUMBER(SEARCH("-",B37)),1,0) -> 0 | P37: =IF(A37="", B37, INDEX($P:$P,MATCH(A37,$B:$B,0))& "." & IF(O37=1,"0","1")& "." & B37) -> EK.1.EK01.1.EK0101.1.EK010103.1.EK01010372
A38: EK010103 | B38: EK01010374 | C38: Soome keele eksam | D38: . | E38: G70 | L38: =LEN(B38) -> 10 | M38: =IF(ISNUMBER(SEARCH("-??",B38)), "MÕÕDIK", VLOOKUP(L38,Abiinfo!C:D,2,0)) -> teenus | N38: =IF(A38="","",IF(COUNTIF($B:$B,TRIM(A38))=0,"#VANEM puudub","")) | O38: =IF(ISNUMBER(SEARCH("-",B38)),1,0) -> 0 | P38: =IF(A38="", B38, INDEX($P:$P,MATCH(A38,$B:$B,0))& "." & IF(O38=1,"0","1")& "." & B38) -> EK.1.EK01.1.EK0101.1.EK010103.1.EK01010374
A39: EK010103 | B39: EK01010381 | C39: Eesti keele õppe toetamine | D39: . | E39: G52 | L39: =LEN(B39) -> 10 | M39: =IF(ISNUMBER(SEARCH("-??",B39)), "MÕÕDIK", VLOOKUP(L39,Abiinfo!C:D,2,0)) -> teenus | N39: =IF(A39="","",IF(COUNTIF($B:$B,TRIM(A39))=0,"#VANEM puudub","")) | O39: =IF(ISNUMBER(SEARCH("-",B39)),1,0) -> 0 | P39: =IF(A39="", B39, INDEX($P:$P,MATCH(A39,$B:$B,0))& "." & IF(O39=1,"0","1")& "." & B39) -> EK.1.EK01.1.EK0101.1.EK010103.1.EK01010381
A40: EK010103 | B40: EK01010382 | C40: Täiskasvanute täiendõppe toetamine | D40: . | E40: G52 | L40: =LEN(B40) -> 10 | M40: =IF(ISNUMBER(SEARCH("-??",B40)), "MÕÕDIK", VLOOKUP(L40,Abiinfo!C:D,2,0)) -> teenus | N40: =IF(A40="","",IF(COUNTIF($B:$B,TRIM(A40))=0,"#VANEM puudub","")) | O40: =IF(ISNUMBER(SEARCH("-",B40)),1,0) -> 0 | P40: =IF(A40="", B40, INDEX($P:$P,MATCH(A40,$B:$B,0))& "." & IF(O40=1,"0","1")& "." & B40) -> EK.1.EK01.1.EK0101.1.EK010103.1.EK01010382
...

Sheet Leht1
A1: Uus
A2: Muudatus
A3: Kustutada

Sheet Abiinfo
A2: #Vanem | B2: Hierarhia, ehk mis koodi alla konkreetse rea objektikood (järgmine veerg) kuulub. Mingi planeerimistasandi (nt tulemusvaldkond) mõõdik kuulub selle sama tulemusvaldkonna alla ehk veerus "#Vanem" on vastava tulemusvaldkonna kood. | C2: 2 | D2: Tulemusvaldkond
A3: Objekti kood | B3: Vastava planeerimistasandi või mõõdiku kood. Planerimistasandi koodid on alati kindla tähemärkide arvuga (tulemusvaldkond - 2; programm - 4; meede - 6; programmi tegevus - 8; teenus - 10). Mõõdiku kood algab alati selle planeerimistasandi koodiga mille mõõdikuga on tegemist, millele järgneb lühike sidekriips ja 2-kohaline numbrite kombinatsioon. | C3: 4 | D3: programm
A4: Nimetus | B4: Planeerimistasandi (tulemusvaldkond; programm; meede; programmi tegevus; teenus) nimetus, mõõdiku osas on see veerg alati täitmata (tühi). | C4: 6 | D4: meede
A5: Eesmärk/Mõõdik | B5: Planeerimistasandi (tulemusvaldkond; programm; meede; programmi tegevus; teenus) osas sisaldab planeerimistasandi eesmärgi sõnastust. Mõõdikute osas mõõdiku nimetus. | C5: 8 | D5: programmi tegevus
A6: Vastutaja | B6: Nii planeerimistasandi kui mõõdiku osas sisaldab infot kes on selle peavastutaja (saab olla ainult üks). Võib olla nii asutus kui valitsemisala. Sisestatakse asutuse/valitsemisala kood, mitte nimetus (nt Rahandusministeeriumi kui asutuse osas "R10). | C6: 10 | D6: teenus
A7: Kaasvastutaja(d) | B7: Planeerimistasandi ja mõõdiku osas kaasvastutajad kui need on (ei ole kohustuslik). Tekstiväli ehk sisestatakse nimetus mitte kood.
A8: Märkused | B8: Mõõdikute osas kirjeldatakse konkreetse mõõdiku metoodika. Planeerimistasandite osas mittekohustuslik väli.
A9: Mõõdiku formaat | B9: Planeerimistasandite osas ei täideta. Mõõdikute osas fikseeritakse selle väljaga milline formaat on mõõdiku sihttasemel ja tegelikel väärtustel. Tehakse alljärgnev valik (üks neist): "Arv" - arvuline ja sisaldab komakohti; "Protsent" - protsentuaalne (võib olla ka komakohtadega); "Tekst" - tekstiline, "Täisarv" - arv mis ei sisalda komakohti.
A10: Mõõdiku suund | B10: Planeerimistasandite osas ei täideta. Võimalikke valikuid on kaks: "Suurem parem" ja "Väiksem parem". Nende valikutega tähistatakse seda et kas mõõdiku sihttaseme ja tegelike väärtuste osas suurem number täistab seda et läheb paremini (nt sündimus) või väiksem number tähendab et läheb paremini (nt suremus).
A11: Allika kirjeldus | B11: Planeerimistasandite osas ei täideta. Mõõdiku allika kirjeldus või link allikale.
A12: Muudatus | B12: Kasutatakse planeerimistasandite ja mõõdikute muudatuste esitamisel Rahandusministeeriumile. Kirjutatakse või valitakse rippmenüüst üks allpool toodud tekstiline info:
B13: "Uus" - kui tegemist on uue planeerimistasandi/mõõdikuga (ehk seda rida algses failis ei olnud); "Muudatus" - kui muutub mingis lahtris olef info (nt mõõdiku nimetus) NB! muudetud lahter tuleb tähistada kollase taustavärviga; "Kustutada" - kui mingi planeerimistasand/mõõdik tuleb kustutada NB! kogu rida tuleb tähistada punae taustavärviga.
