Workbook

Sheet objektid
A1: NB! Selgitused antud tabeli ja selle täitmise kohta on toodud töölehel nimega "Abiinfo"
A2: #Vanem | B2: Objekti kood | C2: Nimetus | D2: Eesmärk/Mõõdik | E2: Vastutaja | F2: Kaasvastutaja(d) | G2: Märkused | H2: Mõõdiku formaat | I2: Mõõdiku suund | J2: Allika kirjeldus | K2: Muudatus | L2: PL tasand | M2: PL tasand | N2: kas vanem on? | O2: On_moodik | P2: SortKey
B3: EK | C3: Eesti keel | D3: Tagada eesti keele elujõud ja toimimine Eesti Vabariigis esmase keelena igas eluvaldkonnas, tagada igaühele õigus ja võimalus kasutada Eestis eesti keelt, säilitada ja tugevdada eesti keele staatust, mainet ja eestikeelset kultuuri- ja inforuumi ning väärtustada teiste keelte valdamist | E3: G | L3: =LEN(B3) -> 2 | M3: =IF(ISNUMBER(SEARCH("-??",B3)), "MÕÕDIK", VLOOKUP(L3,Abiinfo!C:D,2,0)) -> Tulemusvaldkond | N3: =IF(A3="","",IF(COUNTIF($B:$B,TRIM(A3))=0,"#VANEM puudub","")) | O3: =IF(ISNUMBER(SEARCH("-",B3)),1,0) -> 0 | P3: =IF(A3="", B3, INDEX($P:$P,MATCH(A3,$B:$B,0))& "." & IF(O3=1,"0","1")& "." & B3) -> EK
A4: EK | B4: EK-05 | D4: 16–65-aastaste Eesti elanike funktsionaalne lugemisoskus eesti keeles | E4: G | G4: Muudetud protsendist arvuks, mõõdetakse keskmist tulemust | H4: Arv | I4: Suurem parem | J4: PIAAC uuring | L4: =LEN(B4) -> 5 | M4: =IF(ISNUMBER(SEARCH("-??",B4)), "MÕÕDIK", VLOOKUP(L4,Abiinfo!C:D,2,0)) -> MÕÕDIK | N4: =IF(A4="","",IF(COUNTIF($B:$B,TRIM(A4))=0,"#VANEM puudub","")) | O4: =IF(ISNUMBER(SEARCH("-",B4)),1,0) -> 1 | P4: =IF(A4="", B4, INDEX($P:$P,MATCH(A4,$B:$B,0))& "." & IF(O4=1,"0","1")& "." & B4) -> EK.0.EK-05
A5: EK | B5: EK-06 | D5: Eesti keelt kasutavate inimeste osakaal rahvastikust, % | E5: G | H5: Protsent | I5: Suurem parem | J5: Statistikaamet | L5: =LEN(B5) -> 5 | M5: =IF(ISNUMBER(SEARCH("-??",B5)), "MÕÕDIK", VLOOKUP(L5,Abiinfo!C:D,2,0)) -> MÕÕDIK | N5: =IF(A5="","",IF(COUNTIF($B:$B,TRIM(A5))=0,"#VANEM puudub","")) | O5: =IF(ISNUMBER(SEARCH("-",B5)),1,0) -> 1 | P5: =IF(A5="", B5, INDEX($P:$P,MATCH(A5,$B:$B,0))& "." & IF(O5=1,"0","1")& "." & B5) -> EK.0.EK-06
A6: EK | B6: EK01 | C6: Keeleprogramm | D6: Eesti keel on arenenud kultuur- ja suhtluskeel ning Eestis väärtustatakse mitmekeelsust | E6: G | L6: =LEN(B6) -> 4 | M6: =IF(ISNUMBER(SEARCH("-??",B6)), "MÕÕDIK", VLOOKUP(L6,Abiinfo!C:D,2,0)) -> programm | N6: =IF(A6="","",IF(COUNTIF($B:$B,TRIM(A6))=0,"#VANEM puudub","")) | O6: =IF(ISNUMBER(SEARCH("-",B6)),1,0) -> 0 | P6: =IF(A6="", B6, INDEX($P:$P,MATCH(A6,$B:$B,0))& "." & IF(O6=1,"0","1")& "." & B6) -> EK.1.EK01
A7: EK01 | B7: EK01-04 | D7: 16–65-aastaste Eesti elanike funktsionaalne lugemisoskus eesti keeles | E7: G | H7: Arv | I7: Suurem parem | J7: PIAAC uuring | L7: =LEN(B7) -> 7 | M7: =IF(ISNUMBER(SEARCH("-??",B7)), "MÕÕDIK", VLOOKUP(L7,Abiinfo!C:D,2,0)) -> MÕÕDIK | N7: =IF(A7="","",IF(COUNTIF($B:$B,TRIM(A7))=0,"#VANEM puudub","")) | O7: =IF(ISNUMBER(SEARCH("-",B7)),1,0) -> 1 | P7: =IF(A7="", B7, INDEX($P:$P,MATCH(A7,$B:$B,0))& "." & IF(O7=1,"0","1")& "." & B7) -> EK.1.EK01.0.EK01-04
A8: EK01 | B8: EK01-05 | D8: Eesti keelt kasutavate inimeste osakaal rahvastikust, % | E8: G | H8: Protsent | I8: Suurem parem | J8: Statistikaamet | L8: =LEN(B8) -> 7 | M8: =IF(ISNUMBER(SEARCH("-??",B8)), "MÕÕDIK", VLOOKUP(L8,Abiinfo!C:D,2,0)) -> MÕÕDIK | N8: =IF(A8="","",IF(COUNTIF($B:$B,TRIM(A8))=0,"#VANEM puudub","")) | O8: =IF(ISNUMBER(SEARCH("-",B8)),1,0) -> 1 | P8: =IF(A8="", B8, INDEX($P:$P,MATCH(A8,$B:$B,0))& "." & IF(O8=1,"0","1")& "." & B8) -> EK.1.EK01.0.EK01-05
A9: EK01 | B9: EK0101 | C9: Keelevaldkonna arendamine | D9: Eesti keel on arenenud kultuur- ja suhtluskeel ning Eestis väärtustatakse mitmekeelsust | E9: G | L9: =LEN(B9) -> 6 | M9: =IF(ISNUMBER(SEARCH("-??",B9)), "MÕÕDIK", VLOOKUP(L9,Abiinfo!C:D,2,0)) -> meede | N9: =IF(A9="","",IF(COUNTIF($B:$B,TRIM(A9))=0,"#VANEM puudub","")) | O9: =IF(ISNUMBER(SEARCH("-",B9)),1,0) -> 0 | P9: =IF(A9="", B9, INDEX($P:$P,MATCH(A9,$B:$B,0))& "." & IF(O9=1,"0","1")& "." & B9) -> EK.1.EK01.1.EK0101
A10: EK0101 | B10: EK010101 | C10: Eesti keele maine | D10: Eesti keele staatus on kindel ja maine on hea | E10: G | L10: =LEN(B10) -> 8 | M10: =IF(ISNUMBER(SEARCH("-??",B10)), "MÕÕDIK", VLOOKUP(L10,Abiinfo!C:D,2,0)) -> programmi tegevus | N10: =IF(A10="","",IF(COUNTIF($B:$B,TRIM(A10))=0,"#VANEM puudub","")) | O10: =IF(ISNUMBER(SEARCH("-",B10)),1,0) -> 0 | P10: =IF(A10="", B10, INDEX($P:$P,MATCH(A10,$B:$B,0))& "." & IF(O10=1,"0","1")& "." & B10) -> EK.1.EK01.1.EK0101.1.EK010101
A11: EK010101 | B11: EK010101-02 | D11: Eesti keele maine ühiskonnas: eesti emakeelega inimeste hulgas | E11: G | H11: Arv | I11: Suurem parem | J11: Eesti keele maine uuring | L11: =LEN(B11) -> 11 | M11: =IF(ISNUMBER(SEARCH("-??",B11)), "MÕÕDIK", VLOOKUP(L11,Abiinfo!C:D,2,0)) -> MÕÕDIK | N11: =IF(A11="","",IF(COUNTIF($B:$B,TRIM(A11))=0,"#VANEM puudub","")) | O11: =IF(ISNUMBER(SEARCH("-",B11)),1,0) -> 1 | P11: =IF(A11="", B11, INDEX($P:$P,MATCH(A11,$B:$B,0))& "." & IF(O11=1,"0","1")& "." & B11) -> EK.1.EK01.1.EK0101.1.EK010101.0.EK010101-02
A12: EK010101 | B12: EK010101-03 | D12: Eesti keele maine ühiskonnas: eesti keelest erineva emakeelega inimeste hulgas | E12: G | H12: Arv | I12: Suurem parem | J12: Eesti keele maine uuring | L12: =LEN(B12) -> 11 | M12: =IF(ISNUMBER(SEARCH("-??",B12)), "MÕÕDIK", VLOOKUP(L12,Abiinfo!C:D,2,0)) -> MÕÕDIK | N12: =IF(A12="","",IF(COUNTIF($B:$B,TRIM(A12))=0,"#VANEM puudub","")) | O12: =IF(ISNUMBER(SEARCH("-",B12)),1,0) -> 1 | P12: =IF(A12="", B12, INDEX($P:$P,MATCH(A12,$B:$B,0))& "." & IF(O12=1,"0","1")& "." & B12) -> EK.1.EK01.1.EK0101.1.EK010101.0.EK010101-03
A13: EK010101 | B13: EK01010101 | C13: Eesti keele mainet ja staatust tugevdavate tegevuste korraldamine | E13: G10 | L13: =LEN(B13) -> 10 | M13: =IF(ISNUMBER(SEARCH("-??",B13)), "MÕÕDIK", VLOOKUP(L13,Abiinfo!C:D,2,0)) -> teenus | N13: =IF(A13="","",IF(COUNTIF($B:$B,TRIM(A13))=0,"#VANEM puudub","")) | O13: =IF(ISNUMBER(SEARCH("-",B13)),1,0) -> 0 | P13: =IF(A13="", B13, INDEX($P:$P,MATCH(A13,$B:$B,0))& "." & IF(O13=1,"0","1")& "." & B13) -> EK.1.EK01.1.EK0101.1.EK010101.1.EK01010101
A14: EK010101 | B14: EK01010161 | C14: Mainekujundus | D14: . | E14: G60 | L14: =LEN(B14) -> 10 | M14: =IF(ISNUMBER(SEARCH("-??",B14)), "MÕÕDIK", VLOOKUP(L14,Abiinfo!C:D,2,0)) -> teenus | N14: =IF(A14="","",IF(COUNTIF($B:$B,TRIM(A14))=0,"#VANEM puudub","")) | O14: =IF(ISNUMBER(SEARCH("-",B14)),1,0) -> 0 | P14: =IF(A14="", B14, INDEX($P:$P,MATCH(A14,$B:$B,0))& "." & IF(O14=1,"0","1")& "." & B14) -> EK.1.EK01.1.EK0101.1.EK010101.1.EK01010161
A15: EK010101 | B15: EK01010171 | C15: Euroopa keeleõppe tunnuskiri | D15: . | E15: G70 | L15: =LEN(B15) -> 10 | M15: =IF(ISNUMBER(SEARCH("-??",B15)), "MÕÕDIK", VLOOKUP(L15,Abiinfo!C:D,2,0)) -> teenus | N15: =IF(A15="","",IF(COUNTIF($B:$B,TRIM(A15))=0,"#VANEM puudub","")) | O15: =IF(ISNUMBER(SEARCH("-",B15)),1,0) -> 0 | P15: =IF(A15="", B15, INDEX($P:$P,MATCH(A15,$B:$B,0))& "." & IF(O15=1,"0","1")& "." & B15) -> EK.1.EK01.1.EK0101.1.EK010101.1.EK01010171
A16: EK010101 | B16: EK01010188 | C16: Eesti keele mainetegevused | D16: . | E16: G52 | L16: =LEN(B16) -> 10 | M16: =IF(ISNUMBER(SEARCH("-??",B16)), "MÕÕDIK", VLOOKUP(L16,Abiinfo!C:D,2,0)) -> teenus | N16: =IF(A16="","",IF(COUNTIF($B:$B,TRIM(A16))=0,"#VANEM puudub","")) | O16: =IF(ISNUMBER(SEARCH("-",B16)),1,0) -> 0 | P16: =IF(A16="", B16, INDEX($P:$P,MATCH(A16,$B:$B,0))& "." & IF(O16=1,"0","1")& "." & B16) -> EK.1.EK01.1.EK0101.1.EK010101.1.EK01010188
A17: EK0101 | B17: EK010102 | C17: Keeletaristu ja keeletehnoloogia | D17: Eesti keele uurimine on rahvusvaheliselt kõrgel tasemel ning keeletaristu on innovaatiline, avatud ja mitmekesine, eestikeelset oskussõnavara arendatakse koordineeritult | E17: G | L17: =LEN(B17) -> 8 | M17: =IF(ISNUMBER(SEARCH("-??",B17)), "MÕÕDIK", VLOOKUP(L17,Abiinfo!C:D,2,0)) -> programmi tegevus | N17: =IF(A17="","",IF(COUNTIF($B:$B,TRIM(A17))=0,"#VANEM puudub","")) | O17: =IF(ISNUMBER(SEARCH("-",B17)),1,0) -> 0 | P17: =IF(A17="", B17, INDEX($P:$P,MATCH(A17,$B:$B,0))& "." & IF(O17=1,"0","1")& "." & B17) -> EK.1.EK01.1.EK0101.1.EK010102
A18: EK010102 | B18: EK010102-05 | D18: Rahvusvahelise levikuga Eesti keeleteaduse publikatsioonide hulk ja viidatavus | E18: G | H18: Täisarv | I18: Suurem parem | J18: ETIS | L18: =LEN(B18) -> 11 | M18: =IF(ISNUMBER(SEARCH("-??",B18)), "MÕÕDIK", VLOOKUP(L18,Abiinfo!C:D,2,0)) -> MÕÕDIK | N18: =IF(A18="","",IF(COUNTIF($B:$B,TRIM(A18))=0,"#VANEM puudub","")) | O18: =IF(ISNUMBER(SEARCH("-",B18)),1,0) -> 1 | P18: =IF(A18="", B18, INDEX($P:$P,MATCH(A18,$B:$B,0))& "." & IF(O18=1,"0","1")& "." & B18) -> EK.1.EK01.1.EK0101.1.EK010102.0.EK010102-05
A19: EK010102 | B19: EK010102-06 | D19: Mitmekeelsete terminibaaside hulk | E19: G | H19: Täisarv | I19: Suurem parem | J19: Eesti Keele Instituut | L19: =LEN(B19) -> 11 | M19: =IF(ISNUMBER(SEARCH("-??",B19)), "MÕÕDIK", VLOOKUP(L19,Abiinfo!C:D,2,0)) -> MÕÕDIK | N19: =IF(A19="","",IF(COUNTIF($B:$B,TRIM(A19))=0,"#VANEM puudub","")) | O19: =IF(ISNUMBER(SEARCH("-",B19)),1,0) -> 1 | P19: =IF(A19="", B19, INDEX($P:$P,MATCH(A19,$B:$B,0))& "." & IF(O19=1,"0","1")& "." & B19) -> EK.1.EK01.1.EK0101.1.EK010102.0.EK010102-06
A20: EK010102 | B20: EK010102-07 | D20: Eesti keele keeletehnoloogiline tugi | E20: G | H20: Tekst | I20: Suurem parem | J20: Eesti Keele Instituut | L20: =LEN(B20) -> 11 | M20: =IF(ISNUMBER(SEARCH("-??",B20)), "MÕÕDIK", VLOOKUP(L20,Abiinfo!C:D,2,0)) -> MÕÕDIK | N20: =IF(A20="","",IF(COUNTIF($B:$B,TRIM(A20))=0,"#VANEM puudub","")) | O20: =IF(ISNUMBER(SEARCH("-",B20)),1,0) -> 1 | P20: =IF(A20="", B20, INDEX($P:$P,MATCH(A20,$B:$B,0))& "." & IF(O20=1,"0","1")& "." & B20) -> EK.1.EK01.1.EK0101.1.EK010102.0.EK010102-07
A21: EK010102 | B21: EK01010201 | C21: Keeletaristu arendamise toetamine | D21: . | E21: G10 | L21: =LEN(B21) -> 10 | M21: =IF(ISNUMBER(SEARCH("-??",B21)), "MÕÕDIK", VLOOKUP(L21,Abiinfo!C:D,2,0)) -> teenus | N21: =IF(A21="","",IF(COUNTIF($B:$B,TRIM(A21))=0,"#VANEM puudub","")) | O21: =IF(ISNUMBER(SEARCH("-",B21)),1,0) -> 0 | P21: =IF(A21="", B21, INDEX($P:$P,MATCH(A21,$B:$B,0))& "." & IF(O21=1,"0","1")& "." & B21) -> EK.1.EK01.1.EK0101.1.EK010102.1.EK01010201
A22: EK010102 | B22: EK01010251 | C22: Keeletehnoloogia | D22: . | E22: G53 | L22: =LEN(B22) -> 10 | M22: =IF(ISNUMBER(SEARCH("-??",B22)), "MÕÕDIK", VLOOKUP(L22,Abiinfo!C:D,2,0)) -> teenus | N22: =IF(A22="","",IF(COUNTIF($B:$B,TRIM(A22))=0,"#VANEM puudub","")) | O22: =IF(ISNUMBER(SEARCH("-",B22)),1,0) -> 0 | P22: =IF(A22="", B22, INDEX($P:$P,MATCH(A22,$B:$B,0))& "." & IF(O22=1,"0","1")& "." & B22) -> EK.1.EK01.1.EK0101.1.EK010102.1.EK01010251
A23: EK010102 | B23: EK01010271 | C23: EIS teenuse toetamine | D23: . | E23: G70 | G23: ei ole uus teenus. 2025 ja 2026 on olemas kuid siit tabelist oli väljas. Tuleb lisada | L23: =LEN(B23) -> 10 | M23: =IF(ISNUMBER(SEARCH("-??",B23)), "MÕÕDIK", VLOOKUP(L23,Abiinfo!C:D,2,0)) -> teenus | N23: =IF(A23="","",IF(COUNTIF($B:$B,TRIM(A23))=0,"#VANEM puudub","")) | O23: =IF(ISNUMBER(SEARCH("-",B23)),1,0) -> 0 | P23: =IF(A23="", B23, INDEX($P:$P,MATCH(A23,$B:$B,0))& "." & IF(O23=1,"0","1")& "." & B23) -> EK.1.EK01.1.EK0101.1.EK010102.1.EK01010271
A24: EK010102 | B24: EK01010282 | C24: Keeletaristu | D24: . | E24: G52 | L24: =LEN(B24) -> 10 | M24: =IF(ISNUMBER(SEARCH("-??",B24)), "MÕÕDIK", VLOOKUP(L24,Abiinfo!C:D,2,0)) -> teenus | N24: =IF(A24="","",IF(COUNTIF($B:$B,TRIM(A24))=0,"#VANEM puudub","")) | O24: =IF(ISNUMBER(SEARCH("-",B24)),1,0) -> 0 | P24: =IF(A24="", B24, INDEX($P:$P,MATCH(A24,$B:$B,0))& "." & IF(O24=1,"0","1")& "." & B24) -> EK.1.EK01.1.EK0101.1.EK010102.1.EK01010282
A25: EK010102 | B25: EK01010286 | C25: Keeletehnoloogia | D25: . | E25: G52 | L25: =LEN(B25) -> 10 | M25: =IF(ISNUMBER(SEARCH("-??",B25)), "MÕÕDIK", VLOOKUP(L25,Abiinfo!C:D,2,0)) -> teenus | N25: =IF(A25="","",IF(COUNTIF($B:$B,TRIM(A25))=0,"#VANEM puudub","")) | O25: =IF(ISNUMBER(SEARCH("-",B25)),1,0) -> 0 | P25: =IF(A25="", B25, INDEX($P:$P,MATCH(A25,$B:$B,0))& "." & IF(O25=1,"0","1")& "." & B25) -> EK.1.EK01.1.EK0101.1.EK010102.1.EK01010286
A26: EK010102 | B26: EK01010288 | C26: Keele staatus ja maine | D26: . | E26: G52 | L26: =LEN(B26) -> 10 | M26: =IF(ISNUMBER(SEARCH("-??",B26)), "MÕÕDIK", VLOOKUP(L26,Abiinfo!C:D,2,0)) -> teenus | N26: =IF(A26="","",IF(COUNTIF($B:$B,TRIM(A26))=0,"#VANEM puudub","")) | O26: =IF(ISNUMBER(SEARCH("-",B26)),1,0) -> 0 | P26: =IF(A26="", B26, INDEX($P:$P,MATCH(A26,$B:$B,0))& "." & IF(O26=1,"0","1")& "." & B26) -> EK.1.EK01.1.EK0101.1.EK010102.1.EK01010288
A27: EK01010288 | B27: EK01010288-01 | D27: Mõõdik on väljatöötamisel | E27: G52 | H27: Tekst | I27: NONE | L27: =LEN(B27) -> 13 | M27: =IF(ISNUMBER(SEARCH("-??",B27)), "MÕÕDIK", VLOOKUP(L27,Abiinfo!C:D,2,0)) -> MÕÕDIK | N27: =IF(A27="","",IF(COUNTIF($B:$B,TRIM(A27))=0,"#VANEM puudub","")) | O27: =IF(ISNUMBER(SEARCH("-",B27)),1,0) -> 1 | P27: =IF(A27="", B27, INDEX($P:$P,MATCH(A27,$B:$B,0))& "." & IF(O27=1,"0","1")& "." & B27) -> EK.1.EK01.1.EK0101.1.EK010102.1.EK01010288.0.EK01010288-01
A28: EK0101 | B28: EK010103 | C28: Keeleõpe ja keeleoskuse hindamine | D28: Kõik Eesti elanikud valdavad eesti keelt ja väärtustavad teiste keelte oskust | E28: G | L28: =LEN(B28) -> 8 | M28: =IF(ISNUMBER(SEARCH("-??",B28)), "MÕÕDIK", VLOOKUP(L28,Abiinfo!C:D,2,0)) -> programmi tegevus | N28: =IF(A28="","",IF(COUNTIF($B:$B,TRIM(A28))=0,"#VANEM puudub","")) | O28: =IF(ISNUMBER(SEARCH("-",B28)),1,0) -> 0 | P28: =IF(A28="", B28, INDEX($P:$P,MATCH(A28,$B:$B,0))& "." & IF(O28=1,"0","1")& "." & B28) -> EK.1.EK01.1.EK0101.1.EK010103
A29: EK010103 | B29: EK010103-02 | D29: Eesti keele tasemeeksami sooritanute osakaal eksamil käinutest (%) | E29: G | H29: Protsent | I29: Suurem parem | J29: Harno | L29: =LEN(B29) -> 11 | M29: =IF(ISNUMBER(SEARCH("-??",B29)), "MÕÕDIK", VLOOKUP(L29,Abiinfo!C:D,2,0)) -> MÕÕDIK | N29: =IF(A29="","",IF(COUNTIF($B:$B,TRIM(A29))=0,"#VANEM puudub","")) | O29: =IF(ISNUMBER(SEARCH("-",B29)),1,0) -> 1 | P29: =IF(A29="", B29, INDEX($P:$P,MATCH(A29,$B:$B,0))& "." & IF(O29=1,"0","1")& "." & B29) -> EK.1.EK01.1.EK0101.1.EK010103.0.EK010103-02
A30: EK010103 | B30: EK010103-03 | D30: Väliseestlaste osalus eesti keele õppes (inimeste arv aastas) | E30: G | H30: Täisarv | I30: Suurem parem | J30: Eesti Keele Instituut | L30: =LEN(B30) -> 11 | M30: =IF(ISNUMBER(SEARCH("-??",B30)), "MÕÕDIK", VLOOKUP(L30,Abiinfo!C:D,2,0)) -> MÕÕDIK | N30: =IF(A30="","",IF(COUNTIF($B:$B,TRIM(A30))=0,"#VANEM puudub","")) | O30: =IF(ISNUMBER(SEARCH("-",B30)),1,0) -> 1 | P30: =IF(A30="", B30, INDEX($P:$P,MATCH(A30,$B:$B,0))& "." & IF(O30=1,"0","1")& "." & B30) -> EK.1.EK01.1.EK0101.1.EK010103.0.EK010103-03
A31: EK010103 | B31: EK010103-05 | D31: Eesti keele kui teise keele õppekorralduse keskkond täiskasvanud õppijale | E31: G | H31: Tekst | I31: Suurem parem | J31: HTM | L31: =LEN(B31) -> 11 | M31: =IF(ISNUMBER(SEARCH("-??",B31)), "MÕÕDIK", VLOOKUP(L31,Abiinfo!C:D,2,0)) -> MÕÕDIK | N31: =IF(A31="","",IF(COUNTIF($B:$B,TRIM(A31))=0,"#VANEM puudub","")) | O31: =IF(ISNUMBER(SEARCH("-",B31)),1,0) -> 1 | P31: =IF(A31="", B31, INDEX($P:$P,MATCH(A31,$B:$B,0))& "." & IF(O31=1,"0","1")& "." & B31) -> EK.1.EK01.1.EK0101.1.EK010103.0.EK010103-05
A32: EK010103 | B32: EK010103-06 | D32: Eesti elanike enesehinnanguline võõrkeeleoskus | E32: G | H32: Tekst | I32: Suurem parem | J32: Eesti tööjõu-uuring | L32: =LEN(B32) -> 11 | M32: =IF(ISNUMBER(SEARCH("-??",B32)), "MÕÕDIK", VLOOKUP(L32,Abiinfo!C:D,2,0)) -> MÕÕDIK | N32: =IF(A32="","",IF(COUNTIF($B:$B,TRIM(A32))=0,"#VANEM puudub","")) | O32: =IF(ISNUMBER(SEARCH("-",B32)),1,0) -> 1 | P32: =IF(A32="", B32, INDEX($P:$P,MATCH(A32,$B:$B,0))& "." & IF(O32=1,"0","1")& "." & B32) -> EK.1.EK01.1.EK0101.1.EK010103.0.EK010103-06
A33: EK010103 | B33: EK01010301 | C33: Eesti keele õppimise ja õpetamise toetamine, eesti keele oskuse hindamine, mitmekeelsuse ja võõrkeelte oskuse toetamine | E33: G10 | L33: =LEN(B33) -> 10 | M33: =IF(ISNUMBER(SEARCH("-??",B33)), "MÕÕDIK", VLOOKUP(L33,Abiinfo!C:D,2,0)) -> teenus | N33: =IF(A33="","",IF(COUNTIF($B:$B,TRIM(A33))=0,"#VANEM puudub","")) | O33: =IF(ISNUMBER(SEARCH("-",B33)),1,0) -> 0 | P33: =IF(A33="", B33, INDEX($P:$P,MATCH(A33,$B:$B,0))& "." & IF(O33=1,"0","1")& "." & B33) -> EK.1.EK01.1.EK0101.1.EK010103.1.EK01010301
A34: EK010103 | B34: EK01010351 | C34: Väliseesti arhiiviprojektid | D34: . | E34: G53 | L34: =LEN(B34) -> 10 | M34: =IF(ISNUMBER(SEARCH("-??",B34)), "MÕÕDIK", VLOOKUP(L34,Abiinfo!C:D,2,0)) -> teenus | N34: =IF(A34="","",IF(COUNTIF($B:$B,TRIM(A34))=0,"#VANEM puudub","")) | O34: =IF(ISNUMBER(SEARCH("-",B34)),1,0) -> 0 | P34: =IF(A34="", B34, INDEX($P:$P,MATCH(A34,$B:$B,0))& "." & IF(O34=1,"0","1")& "." & B34) -> EK.1.EK01.1.EK0101.1.EK010103.1.EK01010351
A35: EK010103 | B35: EK01010361 | C35: Keeleõppe toetamine | D35: . | E35: G60 | L35: =LEN(B35) -> 10 | M35: =IF(ISNUMBER(SEARCH("-??",B35)), "MÕÕDIK", VLOOKUP(L35,Abiinfo!C:D,2,0)) -> teenus | N35: =IF(A35="","",IF(COUNTIF($B:$B,TRIM(A35))=0,"#VANEM puudub","")) | O35: =IF(ISNUMBER(SEARCH("-",B35)),1,0) -> 0 | P35: =IF(A35="", B35, INDEX($P:$P,MATCH(A35,$B:$B,0))& "." & IF(O35=1,"0","1")& "." & B35) -> EK.1.EK01.1.EK0101.1.EK010103.1.EK01010361
A36: EK010103 | B36: EK01010371 | C36: Eesti keele tasemeeksamid ja keeleõppekulude hüvitamine | D36: . | E36: G70 | L36: =LEN(B36) -> 10 | M36: =IF(ISNUMBER(SEARCH("-??",B36)), "MÕÕDIK", VLOOKUP(L36,Abiinfo!C:D,2,0)) -> teenus | N36: =IF(A36="","",IF(COUNTIF($B:$B,TRIM(A36))=0,"#VANEM puudub","")) | O36: =IF(ISNUMBER(SEARCH("-",B36)),1,0) -> 0 | P36: =IF(A36="", B36, INDEX($P:$P,MATCH(A36,$B:$B,0))& "." & IF(O36=1,"0","1")& "." & B36) -> EK.1.EK01.1.EK0101.1.EK010103.1.EK01010371
A37: EK010103 | B37: EK01010372 | C37: Eesti keele õppe arendamine välismaal ja välisõpe | D37: . | E37: G70 | L37: =LEN(B37) -> 10 | M37: =IF(ISNUMBER(SEARCH("-??",B37)), "MÕÕDIK", VLOOKUP(L37,Abiinfo!C:D,2,0)) -> teenus | N37: =IF(A37="","",IF(COUNTIF($B:$B,TRIM(A37))=0,"#VANEM puudub","")) | O37: =IF(ISNUMBER(SEARCH("-",B37)),1,0) -> 0 | P37: =IF(A37="", B37, INDEX($P:$P,MATCH(A37,$B:$B,0))& "." & IF(O37=1,"0","1")& "." & B37) -> EK.1.EK01.1.EK0101.1.EK010103.1.EK01010372
A38: EK010103 | B38: EK01010374 | C38: Soome keele eksam | D38: . | E38: G70 | L38: =LEN(B38) -> 10 | M38: =IF(ISNUMBER(SEARCH("-??",B38)), "MÕÕDIK", VLOOKUP(L38,Abiinfo!C:D,2,0)) -> teenus | N38: =IF(A38="","",IF(COUNTIF($B:$B,TRIM(A38))=0,"#VANEM puudub","")) | O38: =IF(ISNUMBER(SEARCH("-",B38)),1,0) -> 0 | P38: =IF(A38="", B38, INDEX($P:$P,MATCH(A38,$B:$B,0))& "." & IF(O38=1,"0","1")& "." & B38) -> EK.1.EK01.1.EK0101.1.EK010103.1.EK01010374
A39: EK010103 | B39: EK01010381 | C39: Eesti keele õppe toetamine | D39: . | E39: G52 | L39: =LEN(B39) -> 10 | M39: =IF(ISNUMBER(SEARCH("-??",B39)), "MÕÕDIK", VLOOKUP(L39,Abiinfo!C:D,2,0)) -> teenus | N39: =IF(A39="","",IF(COUNTIF($B:$B,TRIM(A39))=0,"#VANEM puudub","")) | O39: =IF(ISNUMBER(SEARCH("-",B39)),1,0) -> 0 | P39: =IF(A39="", B39, INDEX($P:$P,MATCH(A39,$B:$B,0))& "." & IF(O39=1,"0","1")& "." & B39) -> EK.1.EK01.1.EK0101.1.EK010103.1.EK01010381
A40: EK010103 | B40: EK01010382 | C40: Täiskasvanute täiendõppe toetamine | D40: . | E40: G52 | L40: =LEN(B40) -> 10 | M40: =IF(ISNUMBER(SEARCH("-??",B40)), "MÕÕDIK", VLOOKUP(L40,Abiinfo!C:D,2,0)) -> teenus | N40: =IF(A40="","",IF(COUNTIF($B:$B,TRIM(A40))=0,"#VANEM puudub","")) | O40: =IF(ISNUMBER(SEARCH("-",B40)),1,0) -> 0 | P40: =IF(A40="", B40, INDEX($P:$P,MATCH(A40,$B:$B,0))& "." & IF(O40=1,"0","1")& "." & B40) -> EK.1.EK01.1.EK0101.1.EK010103.1.EK01010382
A41: EK010103 | B41: EK01010390 | C41: Väliseesti arhiiviprojektide konkurss | D41: . | E41: G90 | L41: =LEN(B41) -> 10 | M41: =IF(ISNUMBER(SEARCH("-??",B41)), "MÕÕDIK", VLOOKUP(L41,Abiinfo!C:D,2,0)) -> teenus | N41: =IF(A41="","",IF(COUNTIF($B:$B,TRIM(A41))=0,"#VANEM puudub","")) | O41: =IF(ISNUMBER(SEARCH("-",B41)),1,0) -> 0 | P41: =IF(A41="", B41, INDEX($P:$P,MATCH(A41,$B:$B,0))& "." & IF(O41=1,"0","1")& "." & B41) -> EK.1.EK01.1.EK0101.1.EK010103.1.EK01010390
B42: EL | C42: Elukeskkond, liikuvus ja merendus | D42: Eestis on kõigi vajadusi arvestav elukeskkond, liikuvuslahendused ning konkurentsivõimeline majandus | E42: L | F42: P | L42: =LEN(B42) -> 2 | M42: =IF(ISNUMBER(SEARCH("-??",B42)), "MÕÕDIK", VLOOKUP(L42,Abiinfo!C:D,2,0)) -> Tulemusvaldkond | N42: =IF(A42="","",IF(COUNTIF($B:$B,TRIM(A42))=0,"#VANEM puudub","")) | O42: =IF(ISNUMBER(SEARCH("-",B42)),1,0) -> 0 | P42: =IF(A42="", B42, INDEX($P:$P,MATCH(A42,$B:$B,0))& "." & IF(O42=1,"0","1")& "." & B42) -> EL
A43: EL | B43: EL-01 | D43: Elukeskkonnaga rahulolu, % | E43: P10 | F43: L10 | H43: Protsent | J43: ReM | N43: =IF(A43="","",IF(COUNTIF($B:$B,TRIM(A43))=0,"#VANEM puudub","")) | O43: =IF(ISNUMBER(SEARCH("-",B43)),1,0) -> 1 | P43: =IF(A43="", B43, INDEX($P:$P,MATCH(A43,$B:$B,0))& "." & IF(O43=1,"0","1")& "." & B43) -> EL.0.EL-01
A44: EL | B44: EL-02 | D44: Kasvuhoonegaaside summaarne heitkogus transpordivaldkonnas, kilotonni CO2 ekvivalenti | E44: L10 | G44: Transpordi CO2 heitkoguste vähenemine 700 kt võrra võrreldes 2018. aastaga (TLAK mõõdik): Kasutame prognoosimiseks Eesti Keskkonnauuringute Keskuse (EKUK) kasvuhoonegaaside (KHG) prognoose. Tegelikud numbrid võtame ametlikust KHG inventuuri aruannetest. KHG vähendamise trajektoor vastab Transpordi ja liikuvuse arengukava 2021–2035 sihile, mis on saavutatav, kui rakendada kõiki arengukavas kirjeldatud poliitikaid. Euroopa Liidu Kliimapaketi „Fit for 55“ ettepaneku järgi tuleb vähendada ESR sektorite (sh transpordi) emissioone 2030. aastaks –24% (sektoriüleselt). Eesmärk 2030 on ca 1658–1700 kt CO2 ekv, mis tänaste meetmetega ei ole saavutatav. | H44: Arv | I44: Väiksem parem | J44: Eesti Keskkonnauuringute Keskus, Kliimaministeerium | L44: =LEN(B44) -> 5 | M44: =IF(ISNUMBER(SEARCH("-??",B44)), "MÕÕDIK", VLOOKUP(L44,Abiinfo!C:D,2,0)) -> MÕÕDIK | N44: =IF(A44="","",IF(COUNTIF($B:$B,TRIM(A44))=0,"#VANEM puudub","")) | O44: =IF(ISNUMBER(SEARCH("-",B44)),1,0) -> 1 | P44: =IF(A44="", B44, INDEX($P:$P,MATCH(A44,$B:$B,0))& "." & IF(O44=1,"0","1")& "." & B44) -> EL.0.EL-02
A45: EL | B45: EL-03 | D45: Heas seisundis olevate veekogumite osakaal (%) | E45: L10 | H45: Protsent | I45: Suurem parem | J45: Keskkonnaagentuur | L45: =LEN(B45) -> 5 | M45: =IF(ISNUMBER(SEARCH("-??",B45)), "MÕÕDIK", VLOOKUP(L45,Abiinfo!C:D,2,0)) -> MÕÕDIK | N45: =IF(A45="","",IF(COUNTIF($B:$B,TRIM(A45))=0,"#VANEM puudub","")) | O45: =IF(ISNUMBER(SEARCH("-",B45)),1,0) -> 1 | P45: =IF(A45="", B45, INDEX($P:$P,MATCH(A45,$B:$B,0))& "." & IF(O45=1,"0","1")& "." & B45) -> EL.0.EL-03
A46: EL | B46: EL-04 | D46: Eesti laevandus on rahvusvaheliselt konkurentsivõimeline (1-3) | E46: L10 | G46: Perioodiliselt väljaantav Shipping Industry Flag State Performance Table ülevaade; jah/ei | H46: Täisarv | J46: Shipping Industry Flag State Performance Table, https://www.ics-shipping.org/ | L46: =LEN(B46) -> 5 | M46: =IF(ISNUMBER(SEARCH("-??",B46)), "MÕÕDIK", VLOOKUP(L46,Abiinfo!C:D,2,0)) -> MÕÕDIK | N46: =IF(A46="","",IF(COUNTIF($B:$B,TRIM(A46))=0,"#VANEM puudub","")) | O46: =IF(ISNUMBER(SEARCH("-",B46)),1,0) -> 1 | P46: =IF(A46="", B46, INDEX($P:$P,MATCH(A46,$B:$B,0))& "." & IF(O46=1,"0","1")& "." & B46) -> EL.0.EL-04
A47: EL | B47: EL-06 | D47: Ühistranspordi, jalgratturite ja jalakäijate osakaal, % | E47: P10 | H47: Protsent | I47: Suurem parem | J47: minuomavalitsus.ee | L47: =LEN(B47) -> 5 | M47: =IF(ISNUMBER(SEARCH("-??",B47)), "MÕÕDIK", VLOOKUP(L47,Abiinfo!C:D,2,0)) -> MÕÕDIK | N47: =IF(A47="","",IF(COUNTIF($B:$B,TRIM(A47))=0,"#VANEM puudub","")) | O47: =IF(ISNUMBER(SEARCH("-",B47)),1,0) -> 1 | P47: =IF(A47="", B47, INDEX($P:$P,MATCH(A47,$B:$B,0))& "." & IF(O47=1,"0","1")& "." & B47) -> EL.0.EL-06
A48: EL | B48: EL-07 | D48: Väljaspool Harjumaad loodud SKP elaniku kohta EL keskmisest, %. | E48: P10 | H48: Protsent | I48: Suurem parem | J48: ReM | L48: =LEN(B48) -> 5 | M48: =IF(ISNUMBER(SEARCH("-??",B48)), "MÕÕDIK", VLOOKUP(L48,Abiinfo!C:D,2,0)) -> MÕÕDIK | N48: =IF(A48="","",IF(COUNTIF($B:$B,TRIM(A48))=0,"#VANEM puudub","")) | O48: =IF(ISNUMBER(SEARCH("-",B48)),1,0) -> 1 | P48: =IF(A48="", B48, INDEX($P:$P,MATCH(A48,$B:$B,0))& "." & IF(O48=1,"0","1")& "." & B48) -> EL.0.EL-07
A49: EL | B49: EL-08 | D49: Olmejäätmete ringlussevõtu määr, % | E49: L10 | H49: Protsent | I49: Suurem parem | J49: Keskkonnaagentuur | L49: =LEN(B49) -> 5 | M49: =IF(ISNUMBER(SEARCH("-??",B49)), "MÕÕDIK", VLOOKUP(L49,Abiinfo!C:D,2,0)) -> MÕÕDIK | N49: =IF(A49="","",IF(COUNTIF($B:$B,TRIM(A49))=0,"#VANEM puudub","")) | O49: =IF(ISNUMBER(SEARCH("-",B49)),1,0) -> 1 | P49: =IF(A49="", B49, INDEX($P:$P,MATCH(A49,$B:$B,0))& "." & IF(O49=1,"0","1")& "." & B49) -> EL.0.EL-08
A50: EL | B50: ELER | C50: Elukeskkonna ja ringmajanduse programm | D50: Eestis on kvaliteetne elukeskkond ja konkurentsivõimeline ringsuse põhimõtetele vastav majandus. | E50: L10 | L50: =LEN(B50) -> 4 | M50: =IF(ISNUMBER(SEARCH("-??",B50)), "MÕÕDIK", VLOOKUP(L50,Abiinfo!C:D,2,0)) -> programm | N50: =IF(A50="","",IF(COUNTIF($B:$B,TRIM(A50))=0,"#VANEM puudub","")) | O50: =IF(ISNUMBER(SEARCH("-",B50)),1,0) -> 0 | P50: =IF(A50="", B50, INDEX($P:$P,MATCH(A50,$B:$B,0))& "." & IF(O50=1,"0","1")& "." & B50) -> EL.1.ELER
A51: ELER | B51: ELER-03 | D51: Elanike keskmine rahulolu valdkonna teenustega (hoonete ja rajatiste arhitektuur, hoonete seisukord, jäätmekäitlus, jäätmete liigiti kogumise võimaldamine), (%) | E51: L10 | G51: Aritmeetiline keskmine näitajatest. Aegreas sihttasemed lähtuvalt sihist,et 10a jooksul jõuaks üldine rahulolu riigi üleselt tänase Muhu tasemele. | H51: Protsent | I51: Suurem parem | J51: Regionaal- ja Põllumajandusministeerium, minuomavalitsus.ee | L51: =LEN(B51) -> 7 | M51: =IF(ISNUMBER(SEARCH("-??",B51)), "MÕÕDIK", VLOOKUP(L51,Abiinfo!C:D,2,0)) -> MÕÕDIK | N51: =IF(A51="","",IF(COUNTIF($B:$B,TRIM(A51))=0,"#VANEM puudub","")) | O51: =IF(ISNUMBER(SEARCH("-",B51)),1,0) -> 1 | P51: =IF(A51="", B51, INDEX($P:$P,MATCH(A51,$B:$B,0))& "." & IF(O51=1,"0","1")& "." & B51) -> EL.1.ELER.0.ELER-03
A52: ELER | B52: ELER-04 | D52: Ringleva materjali määr (%) | E52: L10 | H52: Protsent | I52: Suurem parem | J52: Statistikaamet | L52: =LEN(B52) -> 7 | M52: =IF(ISNUMBER(SEARCH("-??",B52)), "MÕÕDIK", VLOOKUP(L52,Abiinfo!C:D,2,0)) -> MÕÕDIK | N52: =IF(A52="","",IF(COUNTIF($B:$B,TRIM(A52))=0,"#VANEM puudub","")) | O52: =IF(ISNUMBER(SEARCH("-",B52)),1,0) -> 1 | P52: =IF(A52="", B52, INDEX($P:$P,MATCH(A52,$B:$B,0))& "." & IF(O52=1,"0","1")& "." & B52) -> EL.1.ELER.0.ELER-04
A53: ELER | B53: ELER-05 | D53: Eluhoonete primaarenergia tarbimine aastas, TkWh | E53: L10 | H53: Arv | I53: Väiksem parem | J53: Statistikaamet | L53: =LEN(B53) -> 7 | M53: =IF(ISNUMBER(SEARCH("-??",B53)), "MÕÕDIK", VLOOKUP(L53,Abiinfo!C:D,2,0)) -> MÕÕDIK | N53: =IF(A53="","",IF(COUNTIF($B:$B,TRIM(A53))=0,"#VANEM puudub","")) | O53: =IF(ISNUMBER(SEARCH("-",B53)),1,0) -> 1 | P53: =IF(A53="", B53, INDEX($P:$P,MATCH(A53,$B:$B,0))& "." & IF(O53=1,"0","1")& "." & B53) -> EL.1.ELER.0.ELER-05
A54: ELER | B54: ELER-06 | D54: Kõigi hoonete lõppenergia tarbimine aastas, TkWh | E54: L10 | H54: Arv | I54: Väiksem parem | J54: Statistikaamet | L54: =LEN(B54) -> 7 | M54: =IF(ISNUMBER(SEARCH("-??",B54)), "MÕÕDIK", VLOOKUP(L54,Abiinfo!C:D,2,0)) -> MÕÕDIK | N54: =IF(A54="","",IF(COUNTIF($B:$B,TRIM(A54))=0,"#VANEM puudub","")) | O54: =IF(ISNUMBER(SEARCH("-",B54)),1,0) -> 1 | P54: =IF(A54="", B54, INDEX($P:$P,MATCH(A54,$B:$B,0))& "." & IF(O54=1,"0","1")& "." & B54) -> EL.1.ELER.0.ELER-06
A55: ELER | B55: ELER01 | C55: Ehituspoliitika | D55: Parima elukeskkonna kujundamine Eestis vastavalt kvaliteetse ruumi aluspõhimõtetele, järgides süsiniku jalajälje, energiatõhususe, ringmajanduse ja muid rohe- ning digipöörde eesmärke. | E55: L10 | L55: =LEN(B55) -> 6 | M55: =IF(ISNUMBER(SEARCH("-??",B55)), "MÕÕDIK", VLOOKUP(L55,Abiinfo!C:D,2,0)) -> meede | N55: =IF(A55="","",IF(COUNTIF($B:$B,TRIM(A55))=0,"#VANEM puudub","")) | O55: =IF(ISNUMBER(SEARCH("-",B55)),1,0) -> 0 | P55: =IF(A55="", B55, INDEX($P:$P,MATCH(A55,$B:$B,0))& "." & IF(O55=1,"0","1")& "." & B55) -> EL.1.ELER.1.ELER01
A56: ELER01 | B56: ELER0102 | C56: Ehitus ja elukeskkond | D56: Ehitusvaldkond loob kvaliteetset elukeskkonda, toimib keskkonnasäästlikult ja tõhusalt, on konkurentsivõimeline ning suunanäitaja innovaatiliste lahenduste rakendamisel. Ehitatakse madala süsinikujalajäljega ja kõrge energiatõhususega ehitisi ja säästlikku asularuumi. | E56: L10 | L56: =LEN(B56) -> 8 | M56: =IF(ISNUMBER(SEARCH("-??",B56)), "MÕÕDIK", VLOOKUP(L56,Abiinfo!C:D,2,0)) -> programmi tegevus | N56: =IF(A56="","",IF(COUNTIF($B:$B,TRIM(A56))=0,"#VANEM puudub","")) | O56: =IF(ISNUMBER(SEARCH("-",B56)),1,0) -> 0 | P56: =IF(A56="", B56, INDEX($P:$P,MATCH(A56,$B:$B,0))& "." & IF(O56=1,"0","1")& "." & B56) -> EL.1.ELER.1.ELER01.1.ELER0102
A57: ELER0102 | B57: ELER0102-03 | D57: Elanike keskmine rahulolu ehitatud keskkonnaga, skaala 1-100 | E57: L10 | G57: (skaala 1-100) | H57: Arv | I57: Suurem parem | J57: Regionaal- ja Põllumajandusministeerium, minuomavalitsus.ee | L57: =LEN(B57) -> 11 | M57: =IF(ISNUMBER(SEARCH("-??",B57)), "MÕÕDIK", VLOOKUP(L57,Abiinfo!C:D,2,0)) -> MÕÕDIK | N57: =IF(A57="","",IF(COUNTIF($B:$B,TRIM(A57))=0,"#VANEM puudub","")) | O57: =IF(ISNUMBER(SEARCH("-",B57)),1,0) -> 1 | P57: =IF(A57="", B57, INDEX($P:$P,MATCH(A57,$B:$B,0))& "." & IF(O57=1,"0","1")& "." & B57) -> EL.1.ELER.1.ELER01.1.ELER0102.0.ELER0102-03
A58: ELER0102 | B58: ELER0102-06 | D58: Ehitusvaldkonna digitaliseerituse indeks, skaala 1-100 | E58: L10 | G58: Skaalal 1-100. | H58: Täisarv | I58: Suurem parem | J58: Kliimaministeerium | L58: =LEN(B58) -> 11 | M58: =IF(ISNUMBER(SEARCH("-??",B58)), "MÕÕDIK", VLOOKUP(L58,Abiinfo!C:D,2,0)) -> MÕÕDIK | N58: =IF(A58="","",IF(COUNTIF($B:$B,TRIM(A58))=0,"#VANEM puudub","")) | O58: =IF(ISNUMBER(SEARCH("-",B58)),1,0) -> 1 | P58: =IF(A58="", B58, INDEX($P:$P,MATCH(A58,$B:$B,0))& "." & IF(O58=1,"0","1")& "." & B58) -> EL.1.ELER.1.ELER01.1.ELER0102.0.ELER0102-06
A59: ELER0102 | B59: ELER010103 | C59: Ehitusvaldkonna digitaliseerimine | D59: Ehitistega seotud andmete jagamine toimub tõhusalt ning infokadudeta nii riigi, kohaliku omavalitsuse kui ka erasektori teenuse osutajate vahel. | E59: L10 | L59: =LEN(B59) -> 10 | M59: =IF(ISNUMBER(SEARCH("-??",B59)), "MÕÕDIK", VLOOKUP(L59,Abiinfo!C:D,2,0)) -> teenus | N59: =IF(A59="","",IF(COUNTIF($B:$B,TRIM(A59))=0,"#VANEM puudub","")) | O59: =IF(ISNUMBER(SEARCH("-",B59)),1,0) -> 0 | P59: =IF(A59="", B59, INDEX($P:$P,MATCH(A59,$B:$B,0))& "." & IF(O59=1,"0","1")& "." & B59) -> EL.1.ELER.1.ELER01.1.ELER0102.1.ELER010103
A60: ELER010103 | B60: ELER010103-05 | D60: e-ehituse platvormil pakutavate toodete ja teenuste arv, tk | E60: L10 | H60: Täisarv | I60: Suurem parem | J60: Kliimaministeerium | L60: =LEN(B60) -> 13 | M60: =IF(ISNUMBER(SEARCH("-??",B60)), "MÕÕDIK", VLOOKUP(L60,Abiinfo!C:D,2,0)) -> MÕÕDIK | N60: =IF(A60="","",IF(COUNTIF($B:$B,TRIM(A60))=0,"#VANEM puudub","")) | O60: =IF(ISNUMBER(SEARCH("-",B60)),1,0) -> 1 | P60: =IF(A60="", B60, INDEX($P:$P,MATCH(A60,$B:$B,0))& "." & IF(O60=1,"0","1")& "." & B60) -> EL.1.ELER.1.ELER01.1.ELER0102.1.ELER010103.0.ELER010103-05
A61: ELER010103 | B61: ELER010103-06 | D61: E-ehituse platvormi külastuste arv miljonites | E61: L10 | H61: Täisarv | I61: Suurem parem | J61: Kliimaministeerium | L61: =LEN(B61) -> 13 | M61: =IF(ISNUMBER(SEARCH("-??",B61)), "MÕÕDIK", VLOOKUP(L61,Abiinfo!C:D,2,0)) -> MÕÕDIK | N61: =IF(A61="","",IF(COUNTIF($B:$B,TRIM(A61))=0,"#VANEM puudub","")) | O61: =IF(ISNUMBER(SEARCH("-",B61)),1,0) -> 1 | P61: =IF(A61="", B61, INDEX($P:$P,MATCH(A61,$B:$B,0))& "." & IF(O61=1,"0","1")& "." & B61) -> EL.1.ELER.1.ELER01.1.ELER0102.1.ELER010103.0.ELER010103-06
A62: ELER0102 | B62: ELER010201 | C62: Ehitustegevuse ja -toodete poliitika kujundamine | D62: Tagada ehitustegevuse, ehitiste ja -toodete ohutus, eesmärgipärane toimivus ja kasutatavus ning soodustada jätkusuutlikku majandusarengut. | E62: L10 | L62: =LEN(B62) -> 10 | M62: =IF(ISNUMBER(SEARCH("-??",B62)), "MÕÕDIK", VLOOKUP(L62,Abiinfo!C:D,2,0)) -> teenus | N62: =IF(A62="","",IF(COUNTIF($B:$B,TRIM(A62))=0,"#VANEM puudub","")) | O62: =IF(ISNUMBER(SEARCH("-",B62)),1,0) -> 0 | P62: =IF(A62="", B62, INDEX($P:$P,MATCH(A62,$B:$B,0))& "." & IF(O62=1,"0","1")& "." & B62) -> EL.1.ELER.1.ELER01.1.ELER0102.1.ELER010201
A63: ELER010201 | B63: ELER010201-03 | D63: Euroopa Liidu ehitustoodete valdkonna õigusaktid on õigeaegselt üle võetud (jah/ei) | E63: L10 | H63: Tekst | J63: Kliimaministeerium | L63: =LEN(B63) -> 13 | M63: =IF(ISNUMBER(SEARCH("-??",B63)), "MÕÕDIK", VLOOKUP(L63,Abiinfo!C:D,2,0)) -> MÕÕDIK | N63: =IF(A63="","",IF(COUNTIF($B:$B,TRIM(A63))=0,"#VANEM puudub","")) | O63: =IF(ISNUMBER(SEARCH("-",B63)),1,0) -> 1 | P63: =IF(A63="", B63, INDEX($P:$P,MATCH(A63,$B:$B,0))& "." & IF(O63=1,"0","1")& "." & B63) -> EL.1.ELER.1.ELER01.1.ELER0102.1.ELER010201.0.ELER010201-03
A64: ELER0102 | B64: ELER010203 | C64: Kvaliteetse elukeskkonna poliitika kujundamine | D64: Kvaliteetse ruumi põhimõtete rakendamine ja ehitusvaldkonna strateegiline sidumine laiemate elukeskkonna kujundamise ja arendamise eesmärkidega. | E64: L10 | L64: =LEN(B64) -> 10 | M64: =IF(ISNUMBER(SEARCH("-??",B64)), "MÕÕDIK", VLOOKUP(L64,Abiinfo!C:D,2,0)) -> teenus | N64: =IF(A64="","",IF(COUNTIF($B:$B,TRIM(A64))=0,"#VANEM puudub","")) | O64: =IF(ISNUMBER(SEARCH("-",B64)),1,0) -> 0 | P64: =IF(A64="", B64, INDEX($P:$P,MATCH(A64,$B:$B,0))& "." & IF(O64=1,"0","1")& "." & B64) -> EL.1.ELER.1.ELER01.1.ELER0102.1.ELER010203
A65: ELER010203 | B65: ELER010202-02 | D65: Ehitusloa menetluste läbiviimise kestvus päevades, mediaankeskmisena | E65: L10 | G65: (mediaankeskmine, kogu protsess) | H65: Täisarv | J65: Kliimaministeerium | L65: =LEN(B65) -> 13 | M65: =IF(ISNUMBER(SEARCH("-??",B65)), "MÕÕDIK", VLOOKUP(L65,Abiinfo!C:D,2,0)) -> MÕÕDIK | N65: =IF(A65="","",IF(COUNTIF($B:$B,TRIM(A65))=0,"#VANEM puudub","")) | O65: =IF(ISNUMBER(SEARCH("-",B65)),1,0) -> 1 | P65: =IF(A65="", B65, INDEX($P:$P,MATCH(A65,$B:$B,0))& "." & IF(O65=1,"0","1")& "." & B65) -> EL.1.ELER.1.ELER01.1.ELER0102.1.ELER010203.0.ELER010202-02
A66: ELER010203 | B66: ELER010203-02 | D66: Elanike keskmine rahulolu ehitatud keskkonnaga, skaala 1-100 | E66: L10 | G66: skaala 1-100 | H66: Arv | I66: Suurem parem | J66: Regionaal- ja Põllumajandusministeerium, minuomavalitsus.ee | L66: =LEN(B66) -> 13 | M66: =IF(ISNUMBER(SEARCH("-??",B66)), "MÕÕDIK", VLOOKUP(L66,Abiinfo!C:D,2,0)) -> MÕÕDIK | N66: =IF(A66="","",IF(COUNTIF($B:$B,TRIM(A66))=0,"#VANEM puudub","")) | O66: =IF(ISNUMBER(SEARCH("-",B66)),1,0) -> 1 | P66: =IF(A66="", B66, INDEX($P:$P,MATCH(A66,$B:$B,0))& "." & IF(O66=1,"0","1")& "." & B66) -> EL.1.ELER.1.ELER01.1.ELER0102.1.ELER010203.0.ELER010203-02
A67: ELER010203 | B67: ELER010204-03 | D67: Energiamärgistega hoonete suhtarv kogu hoonefondi suhtes | E67: L10 | H67: Arv | I67: Väiksem parem | J67: Kliimaministeerium | L67: =LEN(B67) -> 13 | M67: =IF(ISNUMBER(SEARCH("-??",B67)), "MÕÕDIK", VLOOKUP(L67,Abiinfo!C:D,2,0)) -> MÕÕDIK | N67: =IF(A67="","",IF(COUNTIF($B:$B,TRIM(A67))=0,"#VANEM puudub","")) | O67: =IF(ISNUMBER(SEARCH("-",B67)),1,0) -> 1 | P67: =IF(A67="", B67, INDEX($P:$P,MATCH(A67,$B:$B,0))& "." & IF(O67=1,"0","1")& "." & B67) -> EL.1.ELER.1.ELER01.1.ELER0102.1.ELER010203.0.ELER010204-03
A68: ELER0102 | B68: ELER010205 | C68: Ehitiste keskkonnasäästlikkuse, energiatõhususe ja sisekliima poliitika kujundamine | D68: Arendada madala keskkonnamõjuga ehitamist tagades ehitiste keskkonnasäästlikkuse, energiatõhususe ja parima sisekliima. | E68: L10 | L68: =LEN(B68) -> 10 | M68: =IF(ISNUMBER(SEARCH("-??",B68)), "MÕÕDIK", VLOOKUP(L68,Abiinfo!C:D,2,0)) -> teenus | N68: =IF(A68="","",IF(COUNTIF($B:$B,TRIM(A68))=0,"#VANEM puudub","")) | O68: =IF(ISNUMBER(SEARCH("-",B68)),1,0) -> 0 | P68: =IF(A68="", B68, INDEX($P:$P,MATCH(A68,$B:$B,0))& "." & IF(O68=1,"0","1")& "." & B68) -> EL.1.ELER.1.ELER01.1.ELER0102.1.ELER010205
A69: ELER010205 | B69: ELER010205-02 | D69: Eluhoonete primaarenergia tarbimine aastas, TWh | E69: L10 | H69: Arv | I69: Väiksem parem | J69: Statistikaamet | L69: =LEN(B69) -> 13 | M69: =IF(ISNUMBER(SEARCH("-??",B69)), "MÕÕDIK", VLOOKUP(L69,Abiinfo!C:D,2,0)) -> MÕÕDIK | N69: =IF(A69="","",IF(COUNTIF($B:$B,TRIM(A69))=0,"#VANEM puudub","")) | O69: =IF(ISNUMBER(SEARCH("-",B69)),1,0) -> 1 | P69: =IF(A69="", B69, INDEX($P:$P,MATCH(A69,$B:$B,0))& "." & IF(O69=1,"0","1")& "." & B69) -> EL.1.ELER.1.ELER01.1.ELER0102.1.ELER010205.0.ELER010205-02
A70: ELER010205 | B70: ELER010205-03 | D70: Kõigi hoonete Mitteeluhoonete lõppenergiatarbimine aastas, TWh | E70: L10 | H70: Arv | I70: Väiksem parem | J70: Statistikaamet | L70: =LEN(B70) -> 13 | M70: =IF(ISNUMBER(SEARCH("-??",B70)), "MÕÕDIK", VLOOKUP(L70,Abiinfo!C:D,2,0)) -> MÕÕDIK | N70: =IF(A70="","",IF(COUNTIF($B:$B,TRIM(A70))=0,"#VANEM puudub","")) | O70: =IF(ISNUMBER(SEARCH("-",B70)),1,0) -> 1 | P70: =IF(A70="", B70, INDEX($P:$P,MATCH(A70,$B:$B,0))& "." & IF(O70=1,"0","1")& "." & B70) -> EL.1.ELER.1.ELER01.1.ELER0102.1.ELER010205.0.ELER010205-03
A71: ELER | B71: ELER02 | C71: Eluasemepoliitika | D71: Eluhooned uuenevad jätkusuutlikult ning võimalikult paljud üle Eesti saavad endale lubada kvaliteetset eluaset. | E71: L10 | L71: =LEN(B71) -> 6 | M71: =IF(ISNUMBER(SEARCH("-??",B71)), "MÕÕDIK", VLOOKUP(L71,Abiinfo!C:D,2,0)) -> meede | N71: =IF(A71="","",IF(COUNTIF($B:$B,TRIM(A71))=0,"#VANEM puudub","")) | O71: =IF(ISNUMBER(SEARCH("-",B71)),1,0) -> 0 | P71: =IF(A71="", B71, INDEX($P:$P,MATCH(A71,$B:$B,0))& "." & IF(O71=1,"0","1")& "." & B71) -> EL.1.ELER.1.ELER02
A72: ELER02 | B72: ELER0201 | C72: Elamumajandus | D72: Soodustada eluhoonete renoveerimist ning kvaliteetsete eluruumide kättesaadavust töö- ja elukohana tegusates piirkondades üle Eesti. | E72: L10 | L72: =LEN(B72) -> 8 | M72: =IF(ISNUMBER(SEARCH("-??",B72)), "MÕÕDIK", VLOOKUP(L72,Abiinfo!C:D,2,0)) -> programmi tegevus | N72: =IF(A72="","",IF(COUNTIF($B:$B,TRIM(A72))=0,"#VANEM puudub","")) | O72: =IF(ISNUMBER(SEARCH("-",B72)),1,0) -> 0 | P72: =IF(A72="", B72, INDEX($P:$P,MATCH(A72,$B:$B,0))& "." & IF(O72=1,"0","1")& "." & B72) -> EL.1.ELER.1.ELER02.1.ELER0201
A73: ELER0201 | B73: ELER0201-02 | D73: Eluruumide arv vähemalt C-energiatõhususklassiga hoonetes, tk | E73: L10 | H73: Täisarv | I73: Väiksem parem | J73: Kliimaministeerium | L73: =LEN(B73) -> 11 | M73: =IF(ISNUMBER(SEARCH("-??",B73)), "MÕÕDIK", VLOOKUP(L73,Abiinfo!C:D,2,0)) -> MÕÕDIK | N73: =IF(A73="","",IF(COUNTIF($B:$B,TRIM(A73))=0,"#VANEM puudub","")) | O73: =IF(ISNUMBER(SEARCH("-",B73)),1,0) -> 1 | P73: =IF(A73="", B73, INDEX($P:$P,MATCH(A73,$B:$B,0))& "." & IF(O73=1,"0","1")& "." & B73) -> EL.1.ELER.1.ELER02.1.ELER0201.0.ELER0201-02
A74: ELER0201 | B74: ELER0201-04 | D74: Eluruumide arv toetuse abil renoveeritud hoonetes | E74: L10 | H74: Arv | I74: Suurem parem | J74: EISA | L74: =LEN(B74) -> 11 | M74: =IF(ISNUMBER(SEARCH("-??",B74)), "MÕÕDIK", VLOOKUP(L74,Abiinfo!C:D,2,0)) -> MÕÕDIK | N74: =IF(A74="","",IF(COUNTIF($B:$B,TRIM(A74))=0,"#VANEM puudub","")) | O74: =IF(ISNUMBER(SEARCH("-",B74)),1,0) -> 1 | P74: =IF(A74="", B74, INDEX($P:$P,MATCH(A74,$B:$B,0))& "." & IF(O74=1,"0","1")& "." & B74) -> EL.1.ELER.1.ELER02.1.ELER0201.0.ELER0201-04
A75: ELER0201 | B75: ELER020101 | C75: Eluasemepoliitika kujundamine | D75: Elamuvaldkonna poliitika, arengukavade, sihtprogrammide ja välisabi projektide väljatöötamine ning elluviimine. Osalemine elamumajanduse sektori ja ehitussektori poliitikakujundamises ja õigusloomes. Tagatakse elamumajanduse areng, selleks vajalik stabiilne rahastamine ja siseriiklikult ning rahvusvaheliselt kokkulepitud eesmärkide saavutamine. | E75: L10 | L75: =LEN(B75) -> 10 | M75: =IF(ISNUMBER(SEARCH("-??",B75)), "MÕÕDIK", VLOOKUP(L75,Abiinfo!C:D,2,0)) -> teenus | N75: =IF(A75="","",IF(COUNTIF($B:$B,TRIM(A75))=0,"#VANEM puudub","")) | O75: =IF(ISNUMBER(SEARCH("-",B75)),1,0) -> 0 | P75: =IF(A75="", B75, INDEX($P:$P,MATCH(A75,$B:$B,0))& "." & IF(O75=1,"0","1")& "." & B75) -> EL.1.ELER.1.ELER02.1.ELER0201.1.ELER020101
A76: ELER020101 | B76: ELER020101-02 | D76: Elamispinna keskmine ruutmeetri hind suhtes keskmisesse brutookuupalka | E76: L10 | H76: Arv | I76: Väiksem parem | J76: Maa-amet, Statistikaamet | L76: =LEN(B76) -> 13 | M76: =IF(ISNUMBER(SEARCH("-??",B76)), "MÕÕDIK", VLOOKUP(L76,Abiinfo!C:D,2,0)) -> MÕÕDIK | N76: =IF(A76="","",IF(COUNTIF($B:$B,TRIM(A76))=0,"#VANEM puudub","")) | O76: =IF(ISNUMBER(SEARCH("-",B76)),1,0) -> 1 | P76: =IF(A76="", B76, INDEX($P:$P,MATCH(A76,$B:$B,0))& "." & IF(O76=1,"0","1")& "." & B76) -> EL.1.ELER.1.ELER02.1.ELER0201.1.ELER020101.0.ELER020101-02
A77: ELER020101 | B77: ELER020101-03 | D77: Energiaostuvõimetusest mõjutatud inimeste osakaal elanike arvust (%) | E77: L10 | H77: Protsent | J77: ? | L77: =LEN(B77) -> 13 | M77: =IF(ISNUMBER(SEARCH("-??",B77)), "MÕÕDIK", VLOOKUP(L77,Abiinfo!C:D,2,0)) -> MÕÕDIK | N77: =IF(A77="","",IF(COUNTIF($B:$B,TRIM(A77))=0,"#VANEM puudub","")) | O77: =IF(ISNUMBER(SEARCH("-",B77)),1,0) -> 1 | P77: =IF(A77="", B77, INDEX($P:$P,MATCH(A77,$B:$B,0))& "." & IF(O77=1,"0","1")& "." & B77) -> EL.1.ELER.1.ELER02.1.ELER0201.1.ELER020101.0.ELER020101-03
A78: ELER0201 | B78: ELER020102 | C78: Elamufondi ja elukeskkonna parendamise toetamine | D78: Stimuleeritakse elamufondi rekonstrueerimist riiklike toetustega, mis võimaldab täita eesmärke seoses hoonefondi energiatõhususe ja sisekliima parandamisega. Tagatakse kvaliteetsete elamistingimuste parem kättesaadavus pöörates seejuures tähelepanu ka üürielamutele, kahaneva elanikkonna piirkondadele ja vähekaitstud leibkondadele.​ | E78: L10 | L78: =LEN(B78) -> 10 | M78: =IF(ISNUMBER(SEARCH("-??",B78)), "MÕÕDIK", VLOOKUP(L78,Abiinfo!C:D,2,0)) -> teenus | N78: =IF(A78="","",IF(COUNTIF($B:$B,TRIM(A78))=0,"#VANEM puudub","")) | O78: =IF(ISNUMBER(SEARCH("-",B78)),1,0) -> 0 | P78: =IF(A78="", B78, INDEX($P:$P,MATCH(A78,$B:$B,0))& "." & IF(O78=1,"0","1")& "." & B78) -> EL.1.ELER.1.ELER02.1.ELER0201.1.ELER020102
A79: ELER020102 | B79: ELER020102-08 | D79: Toetusega rekonstrueeritud eluruumide arv | E79: L10 | H79: Täisarv | I79: Suurem parem | J79: Kredex, Kliimaministeerium | L79: =LEN(B79) -> 13 | M79: =IF(ISNUMBER(SEARCH("-??",B79)), "MÕÕDIK", VLOOKUP(L79,Abiinfo!C:D,2,0)) -> MÕÕDIK | N79: =IF(A79="","",IF(COUNTIF($B:$B,TRIM(A79))=0,"#VANEM puudub","")) | O79: =IF(ISNUMBER(SEARCH("-",B79)),1,0) -> 1 | P79: =IF(A79="", B79, INDEX($P:$P,MATCH(A79,$B:$B,0))& "." & IF(O79=1,"0","1")& "." & B79) -> EL.1.ELER.1.ELER02.1.ELER0201.1.ELER020102.0.ELER020102-08
A80: ELER020102 | B80: ELER020102-09 | D80: Riiklikku toetust saanud energiaostuvõimetute leibkondade arv​ | E80: L10 | G80: Energiaostuvõimetus on „olukord, mille puhul leibkond või üksikisik ei suuda madala sissetuleku, kõrge energiakulu ja kodu madala energiatõhususe kombinatsiooni tõttu endale lubada peamisi inimväärse elatustaseme jaoks vajalikke energiateenuseid (küte, jahutus, valgustus, liikuvus, energia)“ (kliima- ja energiaalase linnapeade pakti määratlus) | H80: Täisarv | I80: Suurem parem | J80: ? | L80: =LEN(B80) -> 13 | M80: =IF(ISNUMBER(SEARCH("-??",B80)), "MÕÕDIK", VLOOKUP(L80,Abiinfo!C:D,2,0)) -> MÕÕDIK | N80: =IF(A80="","",IF(COUNTIF($B:$B,TRIM(A80))=0,"#VANEM puudub","")) | O80: =IF(ISNUMBER(SEARCH("-",B80)),1,0) -> 1 | P80: =IF(A80="", B80, INDEX($P:$P,MATCH(A80,$B:$B,0))& "." & IF(O80=1,"0","1")& "." & B80) -> EL.1.ELER.1.ELER02.1.ELER0201.1.ELER020102.0.ELER020102-09
A81: ELER | B81: ELER03 | C81: Ringmajanduse poliitika | D81: Kestliku ressursside kasutamise, tarbimise ja tootmise edendamine ning ressursitõhususe suurendamine ning terviklik keskkonnamõju vähendamine. | E81: L10 | L81: =LEN(B81) -> 6 | M81: =IF(ISNUMBER(SEARCH("-??",B81)), "MÕÕDIK", VLOOKUP(L81,Abiinfo!C:D,2,0)) -> meede | N81: =IF(A81="","",IF(COUNTIF($B:$B,TRIM(A81))=0,"#VANEM puudub","")) | O81: =IF(ISNUMBER(SEARCH("-",B81)),1,0) -> 0 | P81: =IF(A81="", B81, INDEX($P:$P,MATCH(A81,$B:$B,0))& "." & IF(O81=1,"0","1")& "." & B81) -> EL.1.ELER.1.ELER03
A82: ELER03 | B82: ELER0301 | C82: Ringmajandus | D82: Parem ressursside kasutamine ning kestliku tarbimise ja tootmise edendamine ringsuse suurendamise kaudu, vähendades survet keskkonnale. | E82: L10 | F82: L40, L70, L90 | L82: =LEN(B82) -> 8 | M82: =IF(ISNUMBER(SEARCH("-??",B82)), "MÕÕDIK", VLOOKUP(L82,Abiinfo!C:D,2,0)) -> programmi tegevus | N82: =IF(A82="","",IF(COUNTIF($B:$B,TRIM(A82))=0,"#VANEM puudub","")) | O82: =IF(ISNUMBER(SEARCH("-",B82)),1,0) -> 0 | P82: =IF(A82="", B82, INDEX($P:$P,MATCH(A82,$B:$B,0))& "." & IF(O82=1,"0","1")& "." & B82) -> EL.1.ELER.1.ELER03.1.ELER0301
A83: ELER0301 | B83: ELER0301-02 | D83: Jäätmeteke (va põlevkivitööstus) inimese kohta, kg | E83: L10 | H83: Täisarv | I83: Väiksem parem | J83: Keskkonnaagentuur | L83: =LEN(B83) -> 11 | M83: =IF(ISNUMBER(SEARCH("-??",B83)), "MÕÕDIK", VLOOKUP(L83,Abiinfo!C:D,2,0)) -> MÕÕDIK | N83: =IF(A83="","",IF(COUNTIF($B:$B,TRIM(A83))=0,"#VANEM puudub","")) | O83: =IF(ISNUMBER(SEARCH("-",B83)),1,0) -> 1 | P83: =IF(A83="", B83, INDEX($P:$P,MATCH(A83,$B:$B,0))& "." & IF(O83=1,"0","1")& "." & B83) -> EL.1.ELER.1.ELER03.1.ELER0301.0.ELER0301-02
A84: ELER0301 | B84: ELER0301-04 | D84: Jäätmete liigiti kogumise määr KOVidel, % | E84: L10 | G84: Jäätmete liigiti kogumise määr KOVidel näitab, kui tõhusalt toimib kohalik jäätmehooldus, sh korraldada jäätmete liigiti kogumist (pakend, biojäätmed, tekstiil jt), et neid saaks korduskasutuseks ette valmistada või ringlusse võtta. See loob eelduse, et riik saavutaks endale võetud kohustused (olmejäätmete ringlussevõtu ja pakendijäätmete sihtarvud 2030. aastaks). | H84: Protsent | I84: Suurem parem | J84: Keskkonnaagentuur | L84: =LEN(B84) -> 11 | M84: =IF(ISNUMBER(SEARCH("-??",B84)), "MÕÕDIK", VLOOKUP(L84,Abiinfo!C:D,2,0)) -> MÕÕDIK | N84: =IF(A84="","",IF(COUNTIF($B:$B,TRIM(A84))=0,"#VANEM puudub","")) | O84: =IF(ISNUMBER(SEARCH("-",B84)),1,0) -> 1 | P84: =IF(A84="", B84, INDEX($P:$P,MATCH(A84,$B:$B,0))& "." & IF(O84=1,"0","1")& "." & B84) -> EL.1.ELER.1.ELER03.1.ELER0301.0.ELER0301-04
A85: ELER0301 | B85: ELER030104 | C85: Ringsuse ja jäätmete poliitika kujundamine | D85: Eesti jäätmekorraldus on tõhus ja ringsusel põhinev. Jäätmekäitlust mõjutavad riigi regulatsioonid tagavad valdkonna tervikliku ja tõhusa toimimise ning jäätmealase teadlikkuse kasvu ning on loodud toimivad seosed eri jäätmeliikidega seotud poliitikate vahel. Muuhulgas toimub olmejäätmete, plasti- ja pakendijäätmete, probleemtoodetest tekkinud jäätmete, ohtlike jäätmete, ehitus- ja lammutusjäätmete ning biolagunevate jäätmete tekke vähendamine ja ringlussevõtu suurendamine. | E85: L10 | L85: =LEN(B85) -> 10 | M85: =IF(ISNUMBER(SEARCH("-??",B85)), "MÕÕDIK", VLOOKUP(L85,Abiinfo!C:D,2,0)) -> teenus | N85: =IF(A85="","",IF(COUNTIF($B:$B,TRIM(A85))=0,"#VANEM puudub","")) | O85: =IF(ISNUMBER(SEARCH("-",B85)),1,0) -> 0 | P85: =IF(A85="", B85, INDEX($P:$P,MATCH(A85,$B:$B,0))& "." & IF(O85=1,"0","1")& "." & B85) -> EL.1.ELER.1.ELER03.1.ELER0301.1.ELER030104
A86: ELER030104 | B86: ELER030101-01 | D86: Olmejäätmete liigiti kogumise määr, % | E86: L10 | F86: L40 | G86: Olmejäätmete kogutekkest moodustuv liigiti kogutud jäätmete protsent. | H86: Protsent | I86: Suurem parem | J86: Keskkonnaagentuur | L86: =LEN(B86) -> 13 | M86: =IF(ISNUMBER(SEARCH("-??",B86)), "MÕÕDIK", VLOOKUP(L86,Abiinfo!C:D,2,0)) -> MÕÕDIK | N86: =IF(A86="","",IF(COUNTIF($B:$B,TRIM(A86))=0,"#VANEM puudub","")) | O86: =IF(ISNUMBER(SEARCH("-",B86)),1,0) -> 1 | P86: =IF(A86="", B86, INDEX($P:$P,MATCH(A86,$B:$B,0))& "." & IF(O86=1,"0","1")& "." & B86) -> EL.1.ELER.1.ELER03.1.ELER0301.1.ELER030104.0.ELER030101-01
A87: ELER030104 | B87: ELER030102-01 | D87: Elektroonikajäätmete kogumise määr, % | E87: L10 | G87: Elektroonikajäätmete kogumise määr on konkreetse kalendriaasta suhtarv, mis saadakse kalendriaasta jooksul kogutud elektroonikaromude massi jagamisel kolme eelmise aasta jooksul turule lastud elektri- ja elektroonikaseadmete keskmise massiga aasta kohta. | H87: Protsent | I87: Suurem parem | J87: Keskkonnaagentuur | L87: =LEN(B87) -> 13 | M87: =IF(ISNUMBER(SEARCH("-??",B87)), "MÕÕDIK", VLOOKUP(L87,Abiinfo!C:D,2,0)) -> MÕÕDIK | N87: =IF(A87="","",IF(COUNTIF($B:$B,TRIM(A87))=0,"#VANEM puudub","")) | O87: =IF(ISNUMBER(SEARCH("-",B87)),1,0) -> 1 | P87: =IF(A87="", B87, INDEX($P:$P,MATCH(A87,$B:$B,0))& "." & IF(O87=1,"0","1")& "." & B87) -> EL.1.ELER.1.ELER03.1.ELER0301.1.ELER030104.0.ELER030102-01
A88: ELER030104 | B88: ELER030102-02 | D88: Kantavate patareide ja akude kogumise määr, % | E88: L10 | G88: Tootjad peavad tagama, et jäätmetena oleks kogutud vähemalt 25% ning hiljemalt 26. septembriks 2016 vähemalt 45% viimase kolme aasta keskmisena turule lastud kantavate patareide ja akude kogusest konkreetsel kalendriaastal. | H88: Protsent | I88: Suurem parem | J88: Keskkonnaagentuur | L88: =LEN(B88) -> 13 | M88: =IF(ISNUMBER(SEARCH("-??",B88)), "MÕÕDIK", VLOOKUP(L88,Abiinfo!C:D,2,0)) -> MÕÕDIK | N88: =IF(A88="","",IF(COUNTIF($B:$B,TRIM(A88))=0,"#VANEM puudub","")) | O88: =IF(ISNUMBER(SEARCH("-",B88)),1,0) -> 1 | P88: =IF(A88="", B88, INDEX($P:$P,MATCH(A88,$B:$B,0))& "." & IF(O88=1,"0","1")& "." & B88) -> EL.1.ELER.1.ELER03.1.ELER0301.1.ELER030104.0.ELER030102-02
A89: ELER030104 | B89: ELER030102-03 | D89: Romusõidukite korduskasutuse, taaskasutamine ja ringlussevõttu määr, %. (korduskasutus ja taaskasutamine/korduskasutus ja ringlussevõtt) | E89: L10 | G89: Võetakse romusõidukite koguteke ja sealt arvutatakse kui palju korduskasutati, taaskasutati ja ringluse võeti. | H89: Protsent | I89: Suurem parem | J89: Keskkonnaagentuur | L89: =LEN(B89) -> 13 | M89: =IF(ISNUMBER(SEARCH("-??",B89)), "MÕÕDIK", VLOOKUP(L89,Abiinfo!C:D,2,0)) -> MÕÕDIK | N89: =IF(A89="","",IF(COUNTIF($B:$B,TRIM(A89))=0,"#VANEM puudub","")) | O89: =IF(ISNUMBER(SEARCH("-",B89)),1,0) -> 1 | P89: =IF(A89="", B89, INDEX($P:$P,MATCH(A89,$B:$B,0))& "." & IF(O89=1,"0","1")& "." & B89) -> EL.1.ELER.1.ELER03.1.ELER0301.1.ELER030104.0.ELER030102-03
A90: ELER030104 | B90: ELER030102-04 | D90: Tekstiilijäätmete kogumise määr (%) | E90: L10 | H90: Protsent | I90: Suurem parem | J90: Keskkonnaagentuur | L90: =LEN(B90) -> 13 | M90: =IF(ISNUMBER(SEARCH("-??",B90)), "MÕÕDIK", VLOOKUP(L90,Abiinfo!C:D,2,0)) -> MÕÕDIK | N90: =IF(A90="","",IF(COUNTIF($B:$B,TRIM(A90))=0,"#VANEM puudub","")) | O90: =IF(ISNUMBER(SEARCH("-",B90)),1,0) -> 1 | P90: =IF(A90="", B90, INDEX($P:$P,MATCH(A90,$B:$B,0))& "." & IF(O90=1,"0","1")& "." & B90) -> EL.1.ELER.1.ELER03.1.ELER0301.1.ELER030104.0.ELER030102-04
A91: ELER030104 | B91: ELER030102-05 | D91: Ohtlike jäätmete taaskasutuse määr (%) | E91: L10 | G91: Võetakse ohtlike jäätmete koguteke ja sealt arvutatakse kui palju taaskasutusse suunati. | H91: Protsent | I91: Suurem parem | J91: Keskkonnaagentuur | L91: =LEN(B91) -> 13 | M91: =IF(ISNUMBER(SEARCH("-??",B91)), "MÕÕDIK", VLOOKUP(L91,Abiinfo!C:D,2,0)) -> MÕÕDIK | N91: =IF(A91="","",IF(COUNTIF($B:$B,TRIM(A91))=0,"#VANEM puudub","")) | O91: =IF(ISNUMBER(SEARCH("-",B91)),1,0) -> 1 | P91: =IF(A91="", B91, INDEX($P:$P,MATCH(A91,$B:$B,0))& "." & IF(O91=1,"0","1")& "." & B91) -> EL.1.ELER.1.ELER03.1.ELER0301.1.ELER030104.0.ELER030102-05
A92: ELER030104 | B92: ELER030102-06 | D92: Pakendijäätmete ringlussevõtu määr (%) | E92: L10 | G92: Võetakse pakendijäätmete koguteke ja sealt arvutatakse kui palju ringlussesse suunati. | H92: Protsent | I92: Suurem parem | J92: Keskkonnaagentuur | L92: =LEN(B92) -> 13 | M92: =IF(ISNUMBER(SEARCH("-??",B92)), "MÕÕDIK", VLOOKUP(L92,Abiinfo!C:D,2,0)) -> MÕÕDIK | N92: =IF(A92="","",IF(COUNTIF($B:$B,TRIM(A92))=0,"#VANEM puudub","")) | O92: =IF(ISNUMBER(SEARCH("-",B92)),1,0) -> 1 | P92: =IF(A92="", B92, INDEX($P:$P,MATCH(A92,$B:$B,0))& "." & IF(O92=1,"0","1")& "." & B92) -> EL.1.ELER.1.ELER03.1.ELER0301.1.ELER030104.0.ELER030102-06
A93: ELER030104 | B93: ELER030102-07 | D93: Plastpakendijäätmete teke ühe elaniku kohta, kg | E93: L10 | G93: Võetakse plastpakendijäätmete koguse suhe elaniku arvu. | H93: Täisarv | I93: Väiksem parem | J93: Keskkonnaagentuur | L93: =LEN(B93) -> 13 | M93: =IF(ISNUMBER(SEARCH("-??",B93)), "MÕÕDIK", VLOOKUP(L93,Abiinfo!C:D,2,0)) -> MÕÕDIK | N93: =IF(A93="","",IF(COUNTIF($B:$B,TRIM(A93))=0,"#VANEM puudub","")) | O93: =IF(ISNUMBER(SEARCH("-",B93)),1,0) -> 1 | P93: =IF(A93="", B93, INDEX($P:$P,MATCH(A93,$B:$B,0))& "." & IF(O93=1,"0","1")& "." & B93) -> EL.1.ELER.1.ELER03.1.ELER0301.1.ELER030104.0.ELER030102-07
A94: ELER030104 | B94: ELER030103-01 | D94: Ehitus- ja lammutusjäätmete taaskasutuse määr, % | E94: L10 | G94: Võetakse ehitus-ja lammutusjäätmete koguteke ja sealt arvutatakse kui palju taaskasutusse suunati. | H94: Protsent | I94: Suurem parem | J94: Keskkonnaagentuur | L94: =LEN(B94) -> 13 | M94: =IF(ISNUMBER(SEARCH("-??",B94)), "MÕÕDIK", VLOOKUP(L94,Abiinfo!C:D,2,0)) -> MÕÕDIK | N94: =IF(A94="","",IF(COUNTIF($B:$B,TRIM(A94))=0,"#VANEM puudub","")) | O94: =IF(ISNUMBER(SEARCH("-",B94)),1,0) -> 1 | P94: =IF(A94="", B94, INDEX($P:$P,MATCH(A94,$B:$B,0))& "." & IF(O94=1,"0","1")& "." & B94) -> EL.1.ELER.1.ELER03.1.ELER0301.1.ELER030104.0.ELER030103-01
A95: ELER030104 | B95: ELER030103-02 | D95: Ehitus- ja lammutusjäätmete ringlussevõtu määr, % | E95: L10 | G95: Võetakse ehitus-ja lammutusjäätmete koguteke ja sealt arvutatakse kui palju ringlusse suunati. | H95: Protsent | I95: Suurem parem | J95: Keskkonnaagentuur | L95: =LEN(B95) -> 13 | M95: =IF(ISNUMBER(SEARCH("-??",B95)), "MÕÕDIK", VLOOKUP(L95,Abiinfo!C:D,2,0)) -> MÕÕDIK | N95: =IF(A95="","",IF(COUNTIF($B:$B,TRIM(A95))=0,"#VANEM puudub","")) | O95: =IF(ISNUMBER(SEARCH("-",B95)),1,0) -> 1 | P95: =IF(A95="", B95, INDEX($P:$P,MATCH(A95,$B:$B,0))& "." & IF(O95=1,"0","1")& "." & B95) -> EL.1.ELER.1.ELER03.1.ELER0301.1.ELER030104.0.ELER030103-02
A96: ELER030104 | B96: ELER030104-01 | D96: Ringleva materjali määr, % | E96: L10 | G96: Mõõdetakse ringleva materjali määra. Täpne metoodika on: https://ec.europa.eu/eurostat/web/products-manuals-and-guidelines/-/ks-gq-18-013 | H96: Protsent | I96: Suurem parem | J96: Eurostat | L96: =LEN(B96) -> 13 | M96: =IF(ISNUMBER(SEARCH("-??",B96)), "MÕÕDIK", VLOOKUP(L96,Abiinfo!C:D,2,0)) -> MÕÕDIK | N96: =IF(A96="","",IF(COUNTIF($B:$B,TRIM(A96))=0,"#VANEM puudub","")) | O96: =IF(ISNUMBER(SEARCH("-",B96)),1,0) -> 1 | P96: =IF(A96="", B96, INDEX($P:$P,MATCH(A96,$B:$B,0))& "." & IF(O96=1,"0","1")& "." & B96) -> EL.1.ELER.1.ELER03.1.ELER0301.1.ELER030104.0.ELER030104-01
A97: ELER030104 | B97: ELER030104-02 | D97: Ringmajanduse valdkonnas on üle mindud reaalajaandmetele (jah/ei) | E97: L10 | G97: Monitoorime, kus maal on tavajäätmete reaalajaandmetele üleminek. | H97: Tekst | J97: Kliimaministeerium | L97: =LEN(B97) -> 13 | M97: =IF(ISNUMBER(SEARCH("-??",B97)), "MÕÕDIK", VLOOKUP(L97,Abiinfo!C:D,2,0)) -> MÕÕDIK | N97: =IF(A97="","",IF(COUNTIF($B:$B,TRIM(A97))=0,"#VANEM puudub","")) | O97: =IF(ISNUMBER(SEARCH("-",B97)),1,0) -> 1 | P97: =IF(A97="", B97, INDEX($P:$P,MATCH(A97,$B:$B,0))& "." & IF(O97=1,"0","1")& "." & B97) -> EL.1.ELER.1.ELER03.1.ELER0301.1.ELER030104.0.ELER030104-02
A98: ELER0301 | B98: ELER030109 | C98: Jäätmekäitluse aruandluse ja registreeringute korraldamine | D98: Riigi aruandluskohustuse täitmine. Jäätmevaldkonna analüüside ja otsuste tegemiseks vajalike andmete töötlemine. | E98: L40 | L98: =LEN(B98) -> 10 | M98: =IF(ISNUMBER(SEARCH("-??",B98)), "MÕÕDIK", VLOOKUP(L98,Abiinfo!C:D,2,0)) -> teenus | N98: =IF(A98="","",IF(COUNTIF($B:$B,TRIM(A98))=0,"#VANEM puudub","")) | O98: =IF(ISNUMBER(SEARCH("-",B98)),1,0) -> 0 | P98: =IF(A98="", B98, INDEX($P:$P,MATCH(A98,$B:$B,0))& "." & IF(O98=1,"0","1")& "." & B98) -> EL.1.ELER.1.ELER03.1.ELER0301.1.ELER030109
A99: ELER030109 | B99: ELER030109-01 | D99: Esitatud jäätmekäitluse aruannete arv, tk | E99: L40 | H99: Täisarv | J99: Keskkonnaagentuur | L99: =LEN(B99) -> 13 | M99: =IF(ISNUMBER(SEARCH("-??",B99)), "MÕÕDIK", VLOOKUP(L99,Abiinfo!C:D,2,0)) -> MÕÕDIK | N99: =IF(A99="","",IF(COUNTIF($B:$B,TRIM(A99))=0,"#VANEM puudub","")) | O99: =IF(ISNUMBER(SEARCH("-",B99)),1,0) -> 1 | P99: =IF(A99="", B99, INDEX($P:$P,MATCH(A99,$B:$B,0))& "." & IF(O99=1,"0","1")& "." & B99) -> EL.1.ELER.1.ELER03.1.ELER0301.1.ELER030109.0.ELER030109-01
A100: ELER0301 | B100: ELER030110 | C100: Jäätmevaldkonna analüüside tegemine | D100: Analüüside, eksperthinnangute ja konsultatsioonide andmine jäätmevaldkonnaga seotud otsuste tegemiseks | E100: L40 | L100: =LEN(B100) -> 10 | M100: =IF(ISNUMBER(SEARCH("-??",B100)), "MÕÕDIK", VLOOKUP(L100,Abiinfo!C:D,2,0)) -> teenus | N100: =IF(A100="","",IF(COUNTIF($B:$B,TRIM(A100))=0,"#VANEM puudub","")) | O100: =IF(ISNUMBER(SEARCH("-",B100)),1,0) -> 0 | P100: =IF(A100="", B100, INDEX($P:$P,MATCH(A100,$B:$B,0))& "." & IF(O100=1,"0","1")& "." & B100) -> EL.1.ELER.1.ELER03.1.ELER0301.1.ELER030110
...

Sheet Leht1
A1: Uus
A2: Muudatus
A3: Kustutada

Sheet Abiinfo
A2: #Vanem | B2: Hierarhia, ehk mis koodi alla konkreetse rea objektikood (järgmine veerg) kuulub. Mingi planeerimistasandi (nt tulemusvaldkond) mõõdik kuulub selle sama tulemusvaldkonna alla ehk veerus "#Vanem" on vastava tulemusvaldkonna kood. | C2: 2 | D2: Tulemusvaldkond
A3: Objekti kood | B3: Vastava planeerimistasandi või mõõdiku kood. Planerimistasandi koodid on alati kindla tähemärkide arvuga (tulemusvaldkond - 2; programm - 4; meede - 6; programmi tegevus - 8; teenus - 10). Mõõdiku kood algab alati selle planeerimistasandi koodiga mille mõõdikuga on tegemist, millele järgneb lühike sidekriips ja 2-kohaline numbrite kombinatsioon. | C3: 4 | D3: programm
A4: Nimetus | B4: Planeerimistasandi (tulemusvaldkond; programm; meede; programmi tegevus; teenus) nimetus, mõõdiku osas on see veerg alati täitmata (tühi). | C4: 6 | D4: meede
A5: Eesmärk/Mõõdik | B5: Planeerimistasandi (tulemusvaldkond; programm; meede; programmi tegevus; teenus) osas sisaldab planeerimistasandi eesmärgi sõnastust. Mõõdikute osas mõõdiku nimetus. | C5: 8 | D5: programmi tegevus
A6: Vastutaja | B6: Nii planeerimistasandi kui mõõdiku osas sisaldab infot kes on selle peavastutaja (saab olla ainult üks). Võib olla nii asutus kui valitsemisala. Sisestatakse asutuse/valitsemisala kood, mitte nimetus (nt Rahandusministeeriumi kui asutuse osas "R10). | C6: 10 | D6: teenus
A7: Kaasvastutaja(d) | B7: Planeerimistasandi ja mõõdiku osas kaasvastutajad kui need on (ei ole kohustuslik). Tekstiväli ehk sisestatakse nimetus mitte kood.
A8: Märkused | B8: Mõõdikute osas kirjeldatakse konkreetse mõõdiku metoodika. Planeerimistasandite osas mittekohustuslik väli.
A9: Mõõdiku formaat | B9: Planeerimistasandite osas ei täideta. Mõõdikute osas fikseeritakse selle väljaga milline formaat on mõõdiku sihttasemel ja tegelikel väärtustel. Tehakse alljärgnev valik (üks neist): "Arv" - arvuline ja sisaldab komakohti; "Protsent" - protsentuaalne (võib olla ka komakohtadega); "Tekst" - tekstiline, "Täisarv" - arv mis ei sisalda komakohti.
A10: Mõõdiku suund | B10: Planeerimistasandite osas ei täideta. Võimalikke valikuid on kaks: "Suurem parem" ja "Väiksem parem". Nende valikutega tähistatakse seda et kas mõõdiku sihttaseme ja tegelike väärtuste osas suurem number täistab seda et läheb paremini (nt sündimus) või väiksem number tähendab et läheb paremini (nt suremus).
A11: Allika kirjeldus | B11: Planeerimistasandite osas ei täideta. Mõõdiku allika kirjeldus või link allikale.
A12: Muudatus | B12: Kasutatakse planeerimistasandite ja mõõdikute muudatuste esitamisel Rahandusministeeriumile. Kirjutatakse või valitakse rippmenüüst üks allpool toodud tekstiline info:
B13: "Uus" - kui tegemist on uue planeerimistasandi/mõõdikuga (ehk seda rida algses failis ei olnud); "Muudatus" - kui muutub mingis lahtris olef info (nt mõõdiku nimetus) NB! muudetud lahter tuleb tähistada kollase taustavärviga; "Kustutada" - kui mingi planeerimistasand/mõõdik tuleb kustutada NB! kogu rida tuleb tähistada punae taustavärviga.
